BEGIN:VCALENDAR
VERSION:2.0
PRODID:-//garbalovers.com - ECPv6.2.2.1//NONSGML v1.0//EN
CALSCALE:GREGORIAN
METHOD:PUBLISH
X-WR-CALNAME:garbalovers.com
X-ORIGINAL-URL:https://beta.garbalovers.com
X-WR-CALDESC:Events for garbalovers.com
REFRESH-INTERVAL;VALUE=DURATION:PT1H
X-Robots-Tag:noindex
X-PUBLISHED-TTL:PT1H
BEGIN:VTIMEZONE
TZID:America/North_Dakota/Center
BEGIN:DAYLIGHT
TZOFFSETFROM:-0600
TZOFFSETTO:-0500
TZNAME:CDT
DTSTART:20230312T080000
END:DAYLIGHT
BEGIN:STANDARD
TZOFFSETFROM:-0500
TZOFFSETTO:-0600
TZNAME:CST
DTSTART:20231105T070000
END:STANDARD
END:VTIMEZONE
BEGIN:VEVENT
DTSTART;TZID=America/North_Dakota/Center:20231022T190000
DTEND;TZID=America/North_Dakota/Center:20231022T190000
DTSTAMP:20260422T132743
CREATED:20230923T145632Z
LAST-MODIFIED:20231002T191733Z
UID:10000020-1698001200-1698001200@beta.garbalovers.com
SUMMARY:DFW hindu Temple - Ekta Mandir
DESCRIPTION:  \nPrepare to be enchanted by the magic of Garba at the DFW Hindu Temple! Join us for a night filled with the timeless traditions of dance\, the vibrant echoes of music\, and the joyous celebration of our culture. As we gather in a circle\, the sense of unity becomes palpable\, and the rhythmic claps and twirls of Garba create an electrifying atmosphere. It’s an evening where we honor our heritage\, create cherished memories\, and dance our hearts out. Come\, and experience the spirited magic of Garba with us\, and let’s make this celebration a night to remember! \n  \n  \n \n 
URL:https://beta.garbalovers.com/event/dfw-hindu-temple-ekta-mandir-4/
LOCATION:DFW hindu Temple – Ekta Mandir\, 606 North Britain Road\, Irving\, TX\, 75061\, United States
ATTACH;FMTTYPE=image/jpeg:https://beta.garbalovers.com/wp-content/uploads/2023/09/1-2.jpg
GEO:32.819094;-96.9418861
X-APPLE-STRUCTURED-LOCATION;VALUE=URI;X-ADDRESS=DFW hindu Temple – Ekta Mandir 606 North Britain Road Irving TX 75061 United States;X-APPLE-RADIUS=500;X-TITLE=606 North Britain Road:geo:-96.9418861,32.819094
END:VEVENT
BEGIN:VEVENT
DTSTART;TZID=America/North_Dakota/Center:20231023T190000
DTEND;TZID=America/North_Dakota/Center:20231023T190000
DTSTAMP:20260422T132743
CREATED:20230923T145920Z
LAST-MODIFIED:20231002T191703Z
UID:10000021-1698087600-1698087600@beta.garbalovers.com
SUMMARY:DFW Hindu Temple - Ekta Mandir
DESCRIPTION:Embark on a magical journey of Garba at the DFW Hindu Temple! Join us for a night that promises to immerse you in the essence of tradition\, music\, and festive jubilation. As the beats of the dhol (drum) set the rhythm\, we’ll come together to celebrate the vibrancy of Garba\, a dance that embodies the spirit of unity and joy. Let the colorful attire\, the rhythmic clapping\, and the twirls transport you to a world of pure delight. It’s an evening where we create lasting memories\, dance to the tunes of tradition\, and celebrate the cultural richness of our heritage. Come\, be a part of this exhilarating celebration\, and experience the enchantment of Garba like never before! \n  \n \n  \n \n  \n  \n 
URL:https://beta.garbalovers.com/event/dfw-hindu-temple-ekta-mandir-5/
LOCATION:DFW hindu Temple – Ekta Mandir\, 606 North Britain Road\, Irving\, TX\, 75061\, United States
ATTACH;FMTTYPE=image/jpeg:https://beta.garbalovers.com/wp-content/uploads/2023/09/1-2.jpg
GEO:32.819094;-96.9418861
X-APPLE-STRUCTURED-LOCATION;VALUE=URI;X-ADDRESS=DFW hindu Temple – Ekta Mandir 606 North Britain Road Irving TX 75061 United States;X-APPLE-RADIUS=500;X-TITLE=606 North Britain Road:geo:-96.9418861,32.819094
END:VEVENT
END:VCALENDAR