BEGIN:VCALENDAR
VERSION:2.0
PRODID:-//garbalovers.com - ECPv6.2.2.1//NONSGML v1.0//EN
CALSCALE:GREGORIAN
METHOD:PUBLISH
X-WR-CALNAME:garbalovers.com
X-ORIGINAL-URL:https://beta.garbalovers.com
X-WR-CALDESC:Events for garbalovers.com
REFRESH-INTERVAL;VALUE=DURATION:PT1H
X-Robots-Tag:noindex
X-PUBLISHED-TTL:PT1H
BEGIN:VTIMEZONE
TZID:America/North_Dakota/Center
BEGIN:DAYLIGHT
TZOFFSETFROM:-0600
TZOFFSETTO:-0500
TZNAME:CDT
DTSTART:20230312T080000
END:DAYLIGHT
BEGIN:STANDARD
TZOFFSETFROM:-0500
TZOFFSETTO:-0600
TZNAME:CST
DTSTART:20231105T070000
END:STANDARD
TZID:Asia/Kolkata
BEGIN:STANDARD
TZOFFSETFROM:+0530
TZOFFSETTO:+0530
TZNAME:IST
DTSTART:20230101T000000
END:STANDARD
TZID:America/New_York
BEGIN:DAYLIGHT
TZOFFSETFROM:-0500
TZOFFSETTO:-0400
TZNAME:EDT
DTSTART:20230312T070000
END:DAYLIGHT
BEGIN:STANDARD
TZOFFSETFROM:-0400
TZOFFSETTO:-0500
TZNAME:EST
DTSTART:20231105T060000
END:STANDARD
TZID:America/Los_Angeles
BEGIN:DAYLIGHT
TZOFFSETFROM:-0800
TZOFFSETTO:-0700
TZNAME:PDT
DTSTART:20230312T100000
END:DAYLIGHT
BEGIN:STANDARD
TZOFFSETFROM:-0700
TZOFFSETTO:-0800
TZNAME:PST
DTSTART:20231105T090000
END:STANDARD
TZID:Europe/London
BEGIN:DAYLIGHT
TZOFFSETFROM:+0000
TZOFFSETTO:+0100
TZNAME:BST
DTSTART:20230326T010000
END:DAYLIGHT
BEGIN:STANDARD
TZOFFSETFROM:+0100
TZOFFSETTO:+0000
TZNAME:GMT
DTSTART:20231029T010000
END:STANDARD
END:VTIMEZONE
BEGIN:VEVENT
DTSTART;TZID=America/North_Dakota/Center:20231016T190000
DTEND;TZID=America/North_Dakota/Center:20231016T190000
DTSTAMP:20260422T110301
CREATED:20230923T144003Z
LAST-MODIFIED:20231002T192210Z
UID:10000012-1697482800-1697482800@beta.garbalovers.com
SUMMARY:DFW hindu Temple - Ekta Mandir
DESCRIPTION:  \nGet ready to move and groove to the captivating rhythms of Garba! Join us for a night filled with laughter\, music\, and dance. We believe that your presence will add an extra layer of joy and make this occasion even more memorable. So\, mark your calendar\, bring your energy\, and let’s come together for a fantastic evening of celebration that promises to be unforgettable! \n  \n \n 
URL:https://beta.garbalovers.com/event/dfw-hindu-temple-ekta-mandir/
LOCATION:DFW hindu Temple – Ekta Mandir\, 606 North Britain Road\, Irving\, TX\, 75061\, United States
ATTACH;FMTTYPE=image/jpeg:https://beta.garbalovers.com/wp-content/uploads/2023/09/1-2.jpg
GEO:32.819094;-96.9418861
X-APPLE-STRUCTURED-LOCATION;VALUE=URI;X-ADDRESS=DFW hindu Temple – Ekta Mandir 606 North Britain Road Irving TX 75061 United States;X-APPLE-RADIUS=500;X-TITLE=606 North Britain Road:geo:-96.9418861,32.819094
END:VEVENT
BEGIN:VEVENT
DTSTART;TZID=Asia/Kolkata:20231016T200000
DTEND;TZID=Asia/Kolkata:20231016T200000
DTSTAMP:20260422T110301
CREATED:20231003T160107Z
LAST-MODIFIED:20231003T160121Z
UID:10000084-1697486400-1697486400@beta.garbalovers.com
SUMMARY:DAY 2 Thanganat Navratri by AU Students
DESCRIPTION:Experience the most vibrant Navratri celebration this year with AU university students “Thanganat Navratri”. Get ready for an unforgettable experience filled with colorful traditions live music and boundless energy. \nRelive the electrifying magic of Meghdhanush’s unforgettable performance from last year! \nWe’ve expanded the event space doubling the fun. Dance to the electrifying beats of Meghdhanush who delivered an electrifying performance last year for Thanganat. \nBeyond music and dance it’s a unity and culture celebration. Join a community of like-minded individuals relish delicious food and witness incredible artists. \nEvent Details: \nDate: 16/10/23 \nTimings: 8:00 PM – 12:00 AM \nJoin PYC X Thanganat in empowering youth and creating unforgettable memories. Book your tickets now and let the Navratri festivities ignite! \n– Fun Activity \n– Youth Community \n– Midnight Food Arena \n– Meghdhanush Folk Band \n  \nBuy your tickets here. \n 
URL:https://beta.garbalovers.com/event/day-2-thanganat-navratri-by-au-students/
LOCATION:9 Brothers Party Plot And Play Ground\, Sardar Patel Ring Rd\, Ognaj\, Ahmedabad\,\, Gujarat\, 380060\, India
ATTACH;FMTTYPE=image/webp:https://beta.garbalovers.com/wp-content/uploads/2023/10/thumb65145b77cb010.webp
GEO:23.1215886;72.5085387
X-APPLE-STRUCTURED-LOCATION;VALUE=URI;X-ADDRESS=9 Brothers Party Plot And Play Ground Sardar Patel Ring Rd Ognaj Ahmedabad Gujarat 380060 India;X-APPLE-RADIUS=500;X-TITLE=Sardar Patel Ring Rd\, Ognaj:geo:72.5085387,23.1215886
END:VEVENT
BEGIN:VEVENT
DTSTART;TZID=America/North_Dakota/Center:20231017T190000
DTEND;TZID=America/North_Dakota/Center:20231017T190000
DTSTAMP:20260422T110301
CREATED:20230923T144236Z
LAST-MODIFIED:20231002T192145Z
UID:10000013-1697569200-1697569200@beta.garbalovers.com
SUMMARY:Garba at DFW Hindu Temple - Ekta Mandir
DESCRIPTION:Join us for an evening of Garba festivities at the DFW Hindu Temple! This is your invitation to dance\, celebrate\, and immerse yourself in the lively traditions of our culture. As the music sets the rhythm\, we’ll come together to twirl and clap\, creating an atmosphere of joy and unity. It’s a night where we honor our heritage\, forge new connections\, and make lasting memories. So\, put on your dancing shoes and join us for a spirited celebration of Garba that promises to be both culturally enriching and incredibly fun! \n  \n \n  \n \n  \n 
URL:https://beta.garbalovers.com/event/garba-at-dfw-hindu-temple-ekta-mandir/
LOCATION:DFW hindu Temple – Ekta Mandir\, 606 North Britain Road\, Irving\, TX\, 75061\, United States
ATTACH;FMTTYPE=image/jpeg:https://beta.garbalovers.com/wp-content/uploads/2023/09/1-2.jpg
GEO:32.819094;-96.9418861
X-APPLE-STRUCTURED-LOCATION;VALUE=URI;X-ADDRESS=DFW hindu Temple – Ekta Mandir 606 North Britain Road Irving TX 75061 United States;X-APPLE-RADIUS=500;X-TITLE=606 North Britain Road:geo:-96.9418861,32.819094
END:VEVENT
BEGIN:VEVENT
DTSTART;TZID=America/North_Dakota/Center:20231018T190000
DTEND;TZID=America/North_Dakota/Center:20231018T190000
DTSTAMP:20260422T110301
CREATED:20230923T144401Z
LAST-MODIFIED:20231002T192115Z
UID:10000014-1697655600-1697655600@beta.garbalovers.com
SUMMARY:DFW Hindu Temple - Ekta Mandir
DESCRIPTION:Prepare to get into the groove and dance to the vibrant beats of Garba! We invite you to join us for a night that promises an abundance of fun\, music\, and dance. Your presence is what will truly make this evening extraordinary. So\, come along\, let loose\, and be a part of the joyous celebration. Together\, we’ll create magical memories that will make this night even more special! \n  \n \n  \n \n  \n 
URL:https://beta.garbalovers.com/event/dfw-hindu-temple-ekta-mandir-2/
LOCATION:DFW hindu Temple – Ekta Mandir\, 606 North Britain Road\, Irving\, TX\, 75061\, United States
ATTACH;FMTTYPE=image/jpeg:https://beta.garbalovers.com/wp-content/uploads/2023/09/1-2.jpg
GEO:32.819094;-96.9418861
X-APPLE-STRUCTURED-LOCATION;VALUE=URI;X-ADDRESS=DFW hindu Temple – Ekta Mandir 606 North Britain Road Irving TX 75061 United States;X-APPLE-RADIUS=500;X-TITLE=606 North Britain Road:geo:-96.9418861,32.819094
END:VEVENT
BEGIN:VEVENT
DTSTART;TZID=America/North_Dakota/Center:20231019T190000
DTEND;TZID=America/North_Dakota/Center:20231019T190000
DTSTAMP:20260422T110301
CREATED:20230923T144605Z
LAST-MODIFIED:20231002T192051Z
UID:10000015-1697742000-1697742000@beta.garbalovers.com
SUMMARY:Garba DFW Hindu Temple - Ekta Mandir
DESCRIPTION:  \nGet ready to be a part of the lively Garba festivities at the DFW Hindu Temple! We invite you to dance and celebrate with us as we come together to honor our rich cultural traditions. With the rhythmic sounds of Garba music in the background\, this is your chance to twirl\, clap\, and immerse yourself in the spirit of unity and joy. It’s an evening dedicated to creating memories\, embracing our cultural roots\, and rejoicing in the vibrant tapestry of our heritage. So\, don your Garba attire\, and join us for a night of pure celebration! \n  \n \n  \n  \n \n  \n 
URL:https://beta.garbalovers.com/event/garba-dfw-hindu-temple-ekta-mandir/
LOCATION:DFW hindu Temple – Ekta Mandir\, 606 North Britain Road\, Irving\, TX\, 75061\, United States
ATTACH;FMTTYPE=image/jpeg:https://beta.garbalovers.com/wp-content/uploads/2023/09/1-2.jpg
GEO:32.819094;-96.9418861
X-APPLE-STRUCTURED-LOCATION;VALUE=URI;X-ADDRESS=DFW hindu Temple – Ekta Mandir 606 North Britain Road Irving TX 75061 United States;X-APPLE-RADIUS=500;X-TITLE=606 North Britain Road:geo:-96.9418861,32.819094
END:VEVENT
BEGIN:VEVENT
DTSTART;TZID=America/New_York:20231020T183000
DTEND;TZID=America/New_York:20231020T183000
DTSTAMP:20260422T110301
CREATED:20231008T060510Z
LAST-MODIFIED:20231008T060510Z
UID:10000126-1697826600-1697826600@beta.garbalovers.com
SUMMARY:DMG Dandia Dhamal with Rushi Purohit 2023
DESCRIPTION:“Join us for an enchanting evening of dance and music as we celebrate the vibrant festival of Garba! Get ready to immerse yourself in the rhythmic beats\, colorful attire\, and joyful spirit of this traditional Indian dance. Whether you’re an experienced dancer or new to Garba\, all are welcome to join in the festivities. \n  \n \n  \nBuy your tickets here. \n 
URL:https://beta.garbalovers.com/event/dmg-dandia-dhamal-with-rushi-purohit-2023/
LOCATION:SAVE MAX SPORTS CENTRE\,\, 1495 Sandalwood Pkwy E\,\, BRAMPTON\, ON L6R 0K2\, Canada
ATTACH;FMTTYPE=image/jpeg:https://beta.garbalovers.com/wp-content/uploads/2023/10/dandia-dhamal-with-rohit-purohit-2023_2023-08-31-05-37-34-228_80.jpg
GEO:43.7435096;-79.7685458
X-APPLE-STRUCTURED-LOCATION;VALUE=URI;X-ADDRESS=SAVE MAX SPORTS CENTRE 1495 Sandalwood Pkwy E BRAMPTON ON L6R 0K2 Canada;X-APPLE-RADIUS=500;X-TITLE=1495 Sandalwood Pkwy E\,:geo:-79.7685458,43.7435096
END:VEVENT
BEGIN:VEVENT
DTSTART;TZID=America/Los_Angeles:20231020T183000
DTEND;TZID=America/Los_Angeles:20231020T183000
DTSTAMP:20260422T110301
CREATED:20231007T114742Z
LAST-MODIFIED:20231007T114742Z
UID:10000117-1697826600-1697826600@beta.garbalovers.com
SUMMARY:GSBC Navratri 2023
DESCRIPTION:We are excited to extend a warm invitation to you from GSBC (Gujarati Society of B.C.) to join us in celebrating Navratri one of the most vibrant and culturally significant festivals of India wherein we pray to the Goddess Durga for the Peace Love and Well-being of the entire universe. \nMataji’s Pooja & Aarti in the Traditional way. \nExperience authentic Garba and Raas dances. \nConnect with a diverse and vibrant community. \nEnjoy live music and cultural performances. \nSavor delicious Indian cuisine. \nDance the night away and create cherished memories. \n  \nBuy your tickets here. \n 
URL:https://beta.garbalovers.com/event/gsbc-navratri-2023/
LOCATION:Crown Palace Banquet Hall\,\, 12025 Nordel Way Unit 201\,\, surrey\, British Columbia\, V3W 1W1\,\, Canada
ATTACH;FMTTYPE=image/webp:https://beta.garbalovers.com/wp-content/uploads/2023/10/thumb64fb748e03c41.webp
GEO:49.1625865;-122.8893913
X-APPLE-STRUCTURED-LOCATION;VALUE=URI;X-ADDRESS=Crown Palace Banquet Hall 12025 Nordel Way Unit 201 surrey British Columbia V3W 1W1 Canada;X-APPLE-RADIUS=500;X-TITLE=12025 Nordel Way Unit 201\,:geo:-122.8893913,49.1625865
END:VEVENT
BEGIN:VEVENT
DTSTART;TZID=America/Los_Angeles:20231020T190000
DTEND;TZID=America/Los_Angeles:20231020T190000
DTSTAMP:20260422T110301
CREATED:20231007T114153Z
LAST-MODIFIED:20231007T114153Z
UID:10000116-1697828400-1697828400@beta.garbalovers.com
SUMMARY:Raas Garba Ramzat 2023 Navratri
DESCRIPTION:Canadian Desi Arts and Cultural Club proudly presents “Raas Garba Ramzat 2023” event. \nWe will be celebrating Navratri on Oct 20 and Oct 21. \nGarba events bring people from different backgrounds together. It’s a joyous occasion for socializing making new friends and enjoying the festive spirit. \nOverall Navratri Garba is a vibrant and culturally significant dance form that embodies the spirit of Navratri celebrating both tradition and togetherness. \nLet’s Celebrate this Navratri with CDACC ✨ Book your Tickets now. \n  \nBuy your tickets here. \n 
URL:https://beta.garbalovers.com/event/raas-garba-ramzat-2023-navratri/
LOCATION:Mirage Banquet Hall\,\, 17767 64 Avenue\,\, surrey\, Canada
ATTACH;FMTTYPE=image/webp:https://beta.garbalovers.com/wp-content/uploads/2023/10/thumb651f29874406a.webp
GEO:49.1192209;-122.7301809
X-APPLE-STRUCTURED-LOCATION;VALUE=URI;X-ADDRESS=Mirage Banquet Hall 17767 64 Avenue surrey Canada;X-APPLE-RADIUS=500;X-TITLE=17767 64 Avenue\,:geo:-122.7301809,49.1192209
END:VEVENT
BEGIN:VEVENT
DTSTART;TZID=America/North_Dakota/Center:20231020T190000
DTEND;TZID=America/North_Dakota/Center:20231020T190000
DTSTAMP:20260422T110301
CREATED:20230923T144727Z
LAST-MODIFIED:20231002T192021Z
UID:10000016-1697828400-1697828400@beta.garbalovers.com
SUMMARY:DFW Hindu Temple - Ekta Mandir
DESCRIPTION:  \nJoin us for a vibrant evening of Garba festivities at the DFW Hindu Temple! It’s an open invitation to immerse yourself in the rich traditions of dance\, music\, and cultural celebration. As the rhythmic beats fill the air\, we welcome you to dance\, twirl\, and embrace the spirit of Garba. This is a night where we come together to cherish our heritage\, create memorable moments\, and revel in the colorful threads of our culture. So\, put on your dancing shoes\, share in the lively atmosphere\, and let’s make this evening a joyous celebration together! \n  \n  \n \n  \n \n 
URL:https://beta.garbalovers.com/event/dfw-hindu-temple-ekta-mandir-3/
LOCATION:DFW hindu Temple – Ekta Mandir\, 606 North Britain Road\, Irving\, TX\, 75061\, United States
ATTACH;FMTTYPE=image/jpeg:https://beta.garbalovers.com/wp-content/uploads/2023/09/1-2.jpg
GEO:32.819094;-96.9418861
X-APPLE-STRUCTURED-LOCATION;VALUE=URI;X-ADDRESS=DFW hindu Temple – Ekta Mandir 606 North Britain Road Irving TX 75061 United States;X-APPLE-RADIUS=500;X-TITLE=606 North Britain Road:geo:-96.9418861,32.819094
END:VEVENT
BEGIN:VEVENT
DTSTART;TZID=Europe/London:20231020T190000
DTEND;TZID=Europe/London:20231020T230000
DTSTAMP:20260422T110302
CREATED:20231006T043752Z
LAST-MODIFIED:20231006T043752Z
UID:10000109-1697828400-1697842800@beta.garbalovers.com
SUMMARY:Leeds Navratri 2023
DESCRIPTION:Get ready to immerse yourself in the vibrant and energetic celebration of Navratri right here in Leeds! Join us for a memorable evening filled with the joyous beats of traditional Garba and Dandiya dances\, where you can twirl and dance to your heart’s content. \n  \nExperience the rich cultural traditions of India as we come together to celebrate this auspicious festival. Indulge in delicious Indian cuisine\, savoring the flavors of authentic dishes that will transport your taste buds to the streets of India. \n  \nOur Navratri event promises an unforgettable night of music\, dance\, and community. Whether you’re a seasoned Garba enthusiast or experiencing it for the first time\, this is the perfect opportunity to embrace the spirit of Navratri with friends and family. Don’t miss out on this lively and cultural extravaganza! \n  \nGet your tickets now and secure your spot at this crazy\, Traditional Garba Night in Leeds. We can’t wait to celebrate with you. \n  \nBuy your tickets here. \n 
URL:https://beta.garbalovers.com/event/leeds-navratri-2023/
LOCATION:White Rose Banqueting Suite\, 67 Tong Road Leeds LS12 1HQ\, United Kingdom
ATTACH;FMTTYPE=image/jpeg:https://beta.garbalovers.com/wp-content/uploads/2023/10/https___cdn.evbuc_.com_images_610724229_1812506136523_1_original.jpeg
GEO:53.7919449;-1.580284
X-APPLE-STRUCTURED-LOCATION;VALUE=URI;X-ADDRESS=White Rose Banqueting Suite 67 Tong Road Leeds LS12 1HQ United Kingdom;X-APPLE-RADIUS=500;X-TITLE=67 Tong Road Leeds LS12 1HQ:geo:-1.580284,53.7919449
END:VEVENT
BEGIN:VEVENT
DTSTART;TZID=America/New_York:20231020T193000
DTEND;TZID=America/New_York:20231020T193000
DTSTAMP:20260422T110302
CREATED:20231011T182017Z
LAST-MODIFIED:20231011T182017Z
UID:10000135-1697830200-1697830200@beta.garbalovers.com
SUMMARY:THANGANAT NAVRATRI MAHOTSAV 2023
DESCRIPTION:We are excited to announce that we have 3 weekends NAVRATRI GARBA this time with Big Artist VIJAY SUVADA And DHARATI SOLANKI ON October 13\,14\,20\,21\,27\,28 So everyone invited to come and enjoy Garba. Bring your friends and family with you.\nAlso we have delicious street FOOD to purchase at venues.Bhajipav\, samosa \, pizza\, Dabeli\, vadapav.\nSo see you everyone there. \n  \nBuy your tickets here.
URL:https://beta.garbalovers.com/event/thanganat-navratri-mahotsav-2023/
LOCATION:WALL TO WALL SCCER\, 846 READING RD\, MASON\, OH\, 45040\, United States
ATTACH;FMTTYPE=image/jpeg:https://beta.garbalovers.com/wp-content/uploads/2023/10/386411349_656172606608887_3310091880695226107_n.jpg
GEO:39.3417136;-84.3313613
X-APPLE-STRUCTURED-LOCATION;VALUE=URI;X-ADDRESS=WALL TO WALL SCCER 846 READING RD MASON OH 45040 United States;X-APPLE-RADIUS=500;X-TITLE=846 READING RD:geo:-84.3313613,39.3417136
END:VEVENT
BEGIN:VEVENT
DTSTART;TZID=America/New_York:20231020T200000
DTEND;TZID=America/New_York:20231020T200000
DTSTAMP:20260422T110302
CREATED:20231009T143402Z
LAST-MODIFIED:20231009T143402Z
UID:10000132-1697832000-1697832000@beta.garbalovers.com
SUMMARY:NAVRATRI 2023
DESCRIPTION:Don’t miss this opportunity to be part of a memorable Garba celebration. Come\, play Garba\, and let’s create unforgettable moments together!” \nConnect with friends and make new ones as we dance the night away in a joyful and inclusive environment.
URL:https://beta.garbalovers.com/event/navratri-2023-3/
LOCATION:6641 IRONBRIDGE PKWY\, CHESTER\, 23831\, United States
ATTACH;FMTTYPE=image/jpeg:https://beta.garbalovers.com/wp-content/uploads/2023/10/472d5678-a283-4757-b618-8020bd27cd10.jpeg
GEO:37.3409042;-77.4587239
X-APPLE-STRUCTURED-LOCATION;VALUE=URI;X-ADDRESS=6641 IRONBRIDGE PKWY CHESTER 23831 United States;X-APPLE-RADIUS=500;X-TITLE=CHESTER:geo:-77.4587239,37.3409042
END:VEVENT
END:VCALENDAR