BEGIN:VCALENDAR
VERSION:2.0
PRODID:-//garbalovers.com - ECPv6.2.2.1//NONSGML v1.0//EN
CALSCALE:GREGORIAN
METHOD:PUBLISH
X-ORIGINAL-URL:https://beta.garbalovers.com
X-WR-CALDESC:Events for garbalovers.com
REFRESH-INTERVAL;VALUE=DURATION:PT1H
X-Robots-Tag:noindex
X-PUBLISHED-TTL:PT1H
BEGIN:VTIMEZONE
TZID:America/North_Dakota/Center
BEGIN:DAYLIGHT
TZOFFSETFROM:-0600
TZOFFSETTO:-0500
TZNAME:CDT
DTSTART:20230312T080000
END:DAYLIGHT
BEGIN:STANDARD
TZOFFSETFROM:-0500
TZOFFSETTO:-0600
TZNAME:CST
DTSTART:20231105T070000
END:STANDARD
TZID:America/New_York
BEGIN:DAYLIGHT
TZOFFSETFROM:-0500
TZOFFSETTO:-0400
TZNAME:EDT
DTSTART:20230312T070000
END:DAYLIGHT
BEGIN:STANDARD
TZOFFSETFROM:-0400
TZOFFSETTO:-0500
TZNAME:EST
DTSTART:20231105T060000
END:STANDARD
END:VTIMEZONE
BEGIN:VEVENT
DTSTART;TZID=America/North_Dakota/Center:20231029T190000
DTEND;TZID=America/North_Dakota/Center:20231029T190000
DTSTAMP:20260422T044156
CREATED:20230923T150934Z
LAST-MODIFIED:20230930T171838Z
UID:10000024-1698606000-1698606000@beta.garbalovers.com
SUMMARY:Lohana DFW Garba
DESCRIPTION:Come\, and be a part of a special and intimate evening where we celebrate the beauty of dance and culture. In this cozy setting\, every step becomes a brushstroke on the canvas of our shared heritage. Join us for a night of unity and joy\, where the language of dance transcends words\, and culture is our guiding light. Whether you’re an experienced dancer or simply wish to immerse yourself in this rich tradition\, all are welcome to partake in this unforgettable celebration. Let’s create lasting memories together\, one step at a time. \n \nLADFW – MEMBERS: FREE \nGUESTS – $10 PER PERSON \n  \nIf you want to sponsor or donate to support LA-DFW\, please make donations via Zelle on LaDFWpay@gmail.com \nAlternatively please contact Mayur Thakkar on (847) 754-0675 or a committee member. \n** All contributions to LA-DFW are Tax Deductible under section 501(c)(3) **
URL:https://beta.garbalovers.com/event/lohana-dfw-garba/
LOCATION:Radha Shyam Dham\, 820 W Airport Fwy\, Irving\, TX\, 75062\, United States
ATTACH;FMTTYPE=image/jpeg:https://beta.garbalovers.com/wp-content/uploads/2023/09/Screenshot-2023-09-30-at-5.56.34-PM.jpg
GEO:32.8353744;-96.9551017
X-APPLE-STRUCTURED-LOCATION;VALUE=URI;X-ADDRESS=Radha Shyam Dham 820 W Airport Fwy Irving TX 75062 United States;X-APPLE-RADIUS=500;X-TITLE=820 W Airport Fwy:geo:-96.9551017,32.8353744
END:VEVENT
BEGIN:VEVENT
DTSTART;TZID=America/New_York:20231029T190000
DTEND;TZID=America/New_York:20231029T190000
DTSTAMP:20260422T044156
CREATED:20231007T060314Z
LAST-MODIFIED:20231007T060314Z
UID:10000114-1698606000-1698606000@beta.garbalovers.com
SUMMARY:RAAS RANG 2023 Garba - By Bhoomi Trivedi | 29th & 30th September
DESCRIPTION:AYYYY HALLOOO!!! \nGTA save your dates!! \nVG Entertainment & DT International is thrilled to bring the Dynamic & Charismatic BHOOMI TRIVEDI for the very first time in Canada. \nThe one who’s popular tracks have been making waves in the music industry. \nShe has been leaving people mesmerized with her soundtrack for Sanjay Leela Bhansali’s Goliyon Ki Raasleela Ram-Leela Udi Udi Jaye Vagyo Re Dhol and several hit songs from Gujarati films. \nJoin us for “RAAS RANG 2023” the Garba Nights we all have been waiting for on \nSeptember 29th & 30th\, 2023. \nGet ready with your dandiya’s to groove yourself with Bhoomi Trivedi this Navratri. \nDoors open at 7pm. \nEntry for Kids under the age of 5 years is FREE. \nFor sponsorship or show inquires please contact: \nDivya Kumar (416-995-7311) \nVrund Vyas (416-438-1069) \nThe price of the tickets may increase or decrease based on the availability of seats and demand. We are not entitled to refund the difference in such a scenario. \nStrictly No refund in any Scenarios. \n\n  \nBuy your tickets here. \n  \n  \n 
URL:https://beta.garbalovers.com/event/raas-rang-2023-garba-by-bhoomi-trivedi-29th-30th-september/
LOCATION:Brampton Fairgrounds\,\, 12942 Heart Lake Rd\, Caledon\, ontario\, L7C 2J3\, Canada
ATTACH;FMTTYPE=image/webp:https://beta.garbalovers.com/wp-content/uploads/2023/10/thumb6516755a0603b.webp
GEO:43.7690592;-79.8303746
X-APPLE-STRUCTURED-LOCATION;VALUE=URI;X-ADDRESS=Brampton Fairgrounds 12942 Heart Lake Rd Caledon ontario L7C 2J3 Canada;X-APPLE-RADIUS=500;X-TITLE=12942 Heart Lake Rd:geo:-79.8303746,43.7690592
END:VEVENT
END:VCALENDAR