BEGIN:VCALENDAR
VERSION:2.0
PRODID:-//garbalovers.com - ECPv6.2.2.1//NONSGML v1.0//EN
CALSCALE:GREGORIAN
METHOD:PUBLISH
X-ORIGINAL-URL:https://beta.garbalovers.com
X-WR-CALDESC:Events for garbalovers.com
REFRESH-INTERVAL;VALUE=DURATION:PT1H
X-Robots-Tag:noindex
X-PUBLISHED-TTL:PT1H
BEGIN:VTIMEZONE
TZID:Asia/Kolkata
BEGIN:STANDARD
TZOFFSETFROM:+0530
TZOFFSETTO:+0530
TZNAME:IST
DTSTART:20230101T000000
END:STANDARD
END:VTIMEZONE
BEGIN:VEVENT
DTSTART;TZID=Asia/Kolkata:20231020T190000
DTEND;TZID=Asia/Kolkata:20231024T220000
DTSTAMP:20260422T032528
CREATED:20231003T125250Z
LAST-MODIFIED:20231003T125250Z
UID:10000075-1697828400-1698184800@beta.garbalovers.com
SUMMARY:The Great Indian Dandiya Festival 2023 | Navratri 2023
DESCRIPTION:Join us for an evening of joy\, rhythm\, and vibrant colors as we come together to celebrate the magic of Dandiya. Bring your friends and family\, and let’s make this a night to remember\, Dandiya sticks will be provided\, so all you need to bring is your enthusiasm and energy. Let’s create memories that transcend boundaries\, celebrate culture\, and dance to the rhythm of joy! \nWe have Group Discounts and Festival Tickets available as well. \nFor Bulk ticket bookings / queries contact – anupriya@evalive.in \nOffline Ticketing Partner:\nLiveFiesta & Dash Entertainment\n9619272554 / 9619679845 / 9833070733 / 9820863438 \nBuy your tickets here. \n 
URL:https://beta.garbalovers.com/event/the-great-indian-dandiya-festival-2023-navratri-2023/
LOCATION:Jio World Garden\, Plot No: RG1A\, G Block BKC\, Bandra Kurla Complex\, Maharashtra\, 400051\, India
ATTACH;FMTTYPE=image/jpeg:https://beta.garbalovers.com/wp-content/uploads/2023/10/https___media.insider.in_image_upload_c_cropg_custom_v1696317660_dtmhtwxkpqpkof3vr1jh.jpg
GEO:19.0638814;72.8663173
X-APPLE-STRUCTURED-LOCATION;VALUE=URI;X-ADDRESS=Jio World Garden Plot No: RG1A G Block BKC Bandra Kurla Complex Maharashtra 400051 India;X-APPLE-RADIUS=500;X-TITLE=Plot No: RG1A\, G Block BKC:geo:72.8663173,19.0638814
END:VEVENT
END:VCALENDAR