BEGIN:VCALENDAR
VERSION:2.0
PRODID:-//garbalovers.com - ECPv6.2.2.1//NONSGML v1.0//EN
CALSCALE:GREGORIAN
METHOD:PUBLISH
X-WR-CALNAME:garbalovers.com
X-ORIGINAL-URL:https://beta.garbalovers.com
X-WR-CALDESC:Events for garbalovers.com
REFRESH-INTERVAL;VALUE=DURATION:PT1H
X-Robots-Tag:noindex
X-PUBLISHED-TTL:PT1H
BEGIN:VTIMEZONE
TZID:America/North_Dakota/Center
BEGIN:DAYLIGHT
TZOFFSETFROM:-0600
TZOFFSETTO:-0500
TZNAME:CDT
DTSTART:20230312T080000
END:DAYLIGHT
BEGIN:STANDARD
TZOFFSETFROM:-0500
TZOFFSETTO:-0600
TZNAME:CST
DTSTART:20231105T070000
END:STANDARD
END:VTIMEZONE
BEGIN:VEVENT
DTSTART;TZID=America/North_Dakota/Center:20231017T190000
DTEND;TZID=America/North_Dakota/Center:20231017T190000
DTSTAMP:20260422T033206
CREATED:20230923T144236Z
LAST-MODIFIED:20231002T192145Z
UID:10000013-1697569200-1697569200@beta.garbalovers.com
SUMMARY:Garba at DFW Hindu Temple - Ekta Mandir
DESCRIPTION:Join us for an evening of Garba festivities at the DFW Hindu Temple! This is your invitation to dance\, celebrate\, and immerse yourself in the lively traditions of our culture. As the music sets the rhythm\, we’ll come together to twirl and clap\, creating an atmosphere of joy and unity. It’s a night where we honor our heritage\, forge new connections\, and make lasting memories. So\, put on your dancing shoes and join us for a spirited celebration of Garba that promises to be both culturally enriching and incredibly fun! \n  \n \n  \n \n  \n 
URL:https://beta.garbalovers.com/event/garba-at-dfw-hindu-temple-ekta-mandir/
LOCATION:DFW hindu Temple – Ekta Mandir\, 606 North Britain Road\, Irving\, TX\, 75061\, United States
ATTACH;FMTTYPE=image/jpeg:https://beta.garbalovers.com/wp-content/uploads/2023/09/1-2.jpg
GEO:32.819094;-96.9418861
X-APPLE-STRUCTURED-LOCATION;VALUE=URI;X-ADDRESS=DFW hindu Temple – Ekta Mandir 606 North Britain Road Irving TX 75061 United States;X-APPLE-RADIUS=500;X-TITLE=606 North Britain Road:geo:-96.9418861,32.819094
END:VEVENT
END:VCALENDAR