BEGIN:VCALENDAR
VERSION:2.0
PRODID:-//garbalovers.com - ECPv6.2.2.1//NONSGML v1.0//EN
CALSCALE:GREGORIAN
METHOD:PUBLISH
X-ORIGINAL-URL:https://beta.garbalovers.com
X-WR-CALDESC:Events for garbalovers.com
REFRESH-INTERVAL;VALUE=DURATION:PT1H
X-Robots-Tag:noindex
X-PUBLISHED-TTL:PT1H
BEGIN:VTIMEZONE
TZID:America/Los_Angeles
BEGIN:DAYLIGHT
TZOFFSETFROM:-0800
TZOFFSETTO:-0700
TZNAME:PDT
DTSTART:20230312T100000
END:DAYLIGHT
BEGIN:STANDARD
TZOFFSETFROM:-0700
TZOFFSETTO:-0800
TZNAME:PST
DTSTART:20231105T090000
END:STANDARD
TZID:America/New_York
BEGIN:DAYLIGHT
TZOFFSETFROM:-0500
TZOFFSETTO:-0400
TZNAME:EDT
DTSTART:20230312T070000
END:DAYLIGHT
BEGIN:STANDARD
TZOFFSETFROM:-0400
TZOFFSETTO:-0500
TZNAME:EST
DTSTART:20231105T060000
END:STANDARD
TZID:America/Chicago
BEGIN:DAYLIGHT
TZOFFSETFROM:-0600
TZOFFSETTO:-0500
TZNAME:CDT
DTSTART:20230312T080000
END:DAYLIGHT
BEGIN:STANDARD
TZOFFSETFROM:-0500
TZOFFSETTO:-0600
TZNAME:CST
DTSTART:20231105T070000
END:STANDARD
TZID:Asia/Kolkata
BEGIN:STANDARD
TZOFFSETFROM:+0530
TZOFFSETTO:+0530
TZNAME:IST
DTSTART:20230101T000000
END:STANDARD
TZID:Europe/London
BEGIN:DAYLIGHT
TZOFFSETFROM:+0000
TZOFFSETTO:+0100
TZNAME:BST
DTSTART:20230326T010000
END:DAYLIGHT
BEGIN:STANDARD
TZOFFSETFROM:+0100
TZOFFSETTO:+0000
TZNAME:GMT
DTSTART:20231029T010000
END:STANDARD
TZID:UTC
BEGIN:STANDARD
TZOFFSETFROM:+0000
TZOFFSETTO:+0000
TZNAME:UTC
DTSTART:20230101T000000
END:STANDARD
END:VTIMEZONE
BEGIN:VEVENT
DTSTART;TZID=America/Los_Angeles:20231013T180000
DTEND;TZID=America/Los_Angeles:20231013T180000
DTSTAMP:20260422T033703
CREATED:20231002T112059Z
LAST-MODIFIED:20231002T112059Z
UID:10000059-1697220000-1697220000@beta.garbalovers.com
SUMMARY:Garba Night 2023
DESCRIPTION:Garba Night is a traditional Gujarati dance event that typically takes place during the Navratri festival in India. Navratri is a nine-night Hindu festival dedicated to the goddess Durga\, and during this time\, people participate in various cultural and religious celebrations\, including Garba and Dandiya Raas dances. \n  \n  \n \n  \nBuy your tickets here. \n 
URL:https://beta.garbalovers.com/event/garba-night-2023/
LOCATION:5 River Banquet Hall\, 10190 Indiana Ave\, Riverside\, CA\, 92503\, United States
ATTACH;FMTTYPE=image/jpeg:https://beta.garbalovers.com/wp-content/uploads/2023/10/garba-night-2023_2023-09-20-11-43-29-149_20.jpg
GEO:33.9062094;-117.4538418
X-APPLE-STRUCTURED-LOCATION;VALUE=URI;X-ADDRESS=5 River Banquet Hall 10190 Indiana Ave Riverside CA 92503 United States;X-APPLE-RADIUS=500;X-TITLE=10190 Indiana Ave:geo:-117.4538418,33.9062094
END:VEVENT
BEGIN:VEVENT
DTSTART;TZID=America/Los_Angeles:20231013T180000
DTEND;TZID=America/Los_Angeles:20231013T180000
DTSTAMP:20260422T033703
CREATED:20231002T131323Z
LAST-MODIFIED:20231002T131323Z
UID:10000067-1697220000-1697220000@beta.garbalovers.com
SUMMARY:Mitra USA - Navaratri 2023 - Dhinchak DISCO Dandiya Night
DESCRIPTION:during such events\, participants wear traditional Indian attire\, dance in circles\, and use dandiyas (wooden sticks) while enjoying music and celebrating the festival with enthusiasm. It’s a joyful and vibrant way to celebrate Navaratri with friends and family. \n  \n  \n \n  \nBuy your tickets here. \n 
URL:https://beta.garbalovers.com/event/mitra-usa-navaratri-2023-dhinchak-disco-dandiya-night/
LOCATION:Scott Brooks Gymnasium\, 15557 5th Street\, Lathrop\, CA\, 95330\, United States
ATTACH;FMTTYPE=image/jpeg:https://beta.garbalovers.com/wp-content/uploads/2023/10/mitra-usa-navaratri-2023-dhinchak-dandiya-night_2023-07-21-10-50-53-771_86.jpg
GEO:37.8206382;-121.2788198
X-APPLE-STRUCTURED-LOCATION;VALUE=URI;X-ADDRESS=Scott Brooks Gymnasium 15557 5th Street Lathrop CA 95330 United States;X-APPLE-RADIUS=500;X-TITLE=15557 5th Street:geo:-121.2788198,37.8206382
END:VEVENT
BEGIN:VEVENT
DTSTART;TZID=America/New_York:20231013T180000
DTEND;TZID=America/New_York:20231013T180000
DTSTAMP:20260422T033703
CREATED:20231005T205845Z
LAST-MODIFIED:20231005T205845Z
UID:10000097-1697220000-1697220000@beta.garbalovers.com
SUMMARY:Ratri Before Navratri -Bollywood garba
DESCRIPTION:Don’t miss this opportunity to be part of a memorable Garba celebration. Come\, play Garba\, and let’s create unforgettable moments together!” \nFeel free to customize this invitation with specific details such as the date\, time\, and venue to suit your event. \n  \n \n  \nBuy your tickets here.
URL:https://beta.garbalovers.com/event/ratri-before-navratri-bollywood-garba/
LOCATION:Royal King Event Centre Rexdale Boulevard Etobicoke\, ETOBICOKE\,\, london\, ON M9W 1R2\, United Kingdom
ATTACH;FMTTYPE=image/jpeg:https://beta.garbalovers.com/wp-content/uploads/2023/10/ratri-before-navratri-bollywood-garba_2023-08-24-11-00-40-525_96.jpg
GEO:43.6204946;-79.5131983
X-APPLE-STRUCTURED-LOCATION;VALUE=URI;X-ADDRESS=Royal King Event Centre Rexdale Boulevard Etobicoke ETOBICOKE london ON M9W 1R2 United Kingdom;X-APPLE-RADIUS=500;X-TITLE=ETOBICOKE\,:geo:-79.5131983,43.6204946
END:VEVENT
BEGIN:VEVENT
DTSTART;TZID=America/New_York:20231013T190000
DTEND;TZID=America/New_York:20231013T190000
DTSTAMP:20260422T033703
CREATED:20230930T165859Z
LAST-MODIFIED:20230930T171720Z
UID:10000033-1697223600-1697223600@beta.garbalovers.com
SUMMARY:RAAS RANG 2023- LIVE DANDIYA & GARBA IN NEW JERSEY with Bhavin Shastri & team.
DESCRIPTION:Embrace the spirit of Navratri at ‘Come and Play Navratri Garba.’ Get ready for an evening filled with colorful attire\, lively music\, dance floors for all skill levels\, delicious cuisine\, and a vibrant cultural experience. Don’t miss the chance to celebrate with us. \n  \n \n  \nBuy your tickets here.
URL:https://beta.garbalovers.com/event/raas-rang-2023-live-dandiya-garba-in-new-jersey-with-bhavin-shastri-team/
LOCATION:Sportika\, 150 Woodward Road\, Manalapan Township\, NJ\, 07726\, United States
ATTACH;FMTTYPE=image/jpeg:https://beta.garbalovers.com/wp-content/uploads/2023/09/raas-rang-2023-live-dandiya-garba-in-new-jersey-with-bhavin-shastri-team_2023-09-19-04-43-00-069_91.jpg
GEO:40.2567216;-74.3666215
X-APPLE-STRUCTURED-LOCATION;VALUE=URI;X-ADDRESS=Sportika 150 Woodward Road Manalapan Township NJ 07726 United States;X-APPLE-RADIUS=500;X-TITLE=150 Woodward Road:geo:-74.3666215,40.2567216
END:VEVENT
BEGIN:VEVENT
DTSTART;TZID=America/Chicago:20231013T190000
DTEND;TZID=America/Chicago:20231013T190000
DTSTAMP:20260422T033703
CREATED:20231002T190343Z
LAST-MODIFIED:20231012T194604Z
UID:10000040-1697223600-1697223600@beta.garbalovers.com
SUMMARY:CANCELLED - NAVRATRI NO MAHOTSAV WITH SANTVANI TRIVEDI IN DALLAS
DESCRIPTION:Navratri events often feature a diverse range of music styles\, including traditional folk music\, modern Garba and Dandiya songs\, and sometimes fusion music. Santvani Trivedi\, as a performer\, may bring their unique style to the event\, making it an exciting musical experience. \n  \n  \n \n  \nBuy your tickets here. \nEVENT HAS BEEN CANCELLED \n 
URL:https://beta.garbalovers.com/event/navratri-no-mahotsav-with-santvani-trivedi-in-dallas-2/
LOCATION:Dallas Market Hall\, 2200 N Stemmons Fwy\, Dallas\, TX\, 75207\, United States
ATTACH;FMTTYPE=image/jpeg:https://beta.garbalovers.com/wp-content/uploads/2023/10/santvani-trivedi-live-graba-in-dallas_2023-09-22-07-36-15-827_3.jpg
GEO:32.8032951;-96.8295676
X-APPLE-STRUCTURED-LOCATION;VALUE=URI;X-ADDRESS=Dallas Market Hall 2200 N Stemmons Fwy Dallas TX 75207 United States;X-APPLE-RADIUS=500;X-TITLE=2200 N Stemmons Fwy:geo:-96.8295676,32.8032951
END:VEVENT
BEGIN:VEVENT
DTSTART;TZID=Asia/Kolkata:20231013T190000
DTEND;TZID=Asia/Kolkata:20231013T190000
DTSTAMP:20260422T033703
CREATED:20231003T163656Z
LAST-MODIFIED:20231003T163656Z
UID:10000086-1697223600-1697223600@beta.garbalovers.com
SUMMARY:SUBHARAMBH NAVRATRI 2023 | PRE-NAVRATRI | Navratri 2023
DESCRIPTION:Attention all music and dance lovers! 🎶🕺 \n  \nWe are excited to announce our upcoming Pre-Navratri event\, a celebration of music\, dance\, and the spirit of Navratri by SEVEN STONES. \n  \nMark your calendars for 13/10/2023 as we kick off the festivities with a night filled with traditional garba and dandiya raas performances\, live music\, and vibrant cultural displays. \n  \nJoin us at DR World GROUND\, PARVAT PATIA\,SURAT. as we gather together to embrace the joy\, energy\, and colorful traditions of Navratri. Whether you’re an experienced dancer or a beginner\, this event promises to be an unforgettable evening of fun\, laughter\, and cultural immersion. \n  \nSave the date and invite your friends and family for this mesmerizing pre-Navratri celebration. Get ready to create fond memories\, make new friends\, and experience the true essence of this festive season. \n  \nStay tuned for more details about ticket information\, timings\, and additional attractions. Follow our social media pages or visit our website for updates. \n  \nJoin us as we begin the countdown to Navratri with an extraordinary Pre-Navratri event that will leave you spellbound. Let the festivities begin! 🌟🎉 \n  \nBuy your tickets here. \n 
URL:https://beta.garbalovers.com/event/subharambh-navratri-2023-pre-navratri-navratri-2023/
LOCATION:D R World Aai Mata Rd\,\, opp. Dhiraj Sons\, Amidhara Society\, Bhagyoday Industrial Estate\, Varachha\, surat\, Gujarat\, 395010\, India
ATTACH;FMTTYPE=image/jpeg:https://beta.garbalovers.com/wp-content/uploads/2023/10/https___media.insider.in_image_upload_c_cropg_custom_v1696274954_icio8dos8m6wxpd3pxr8.jpg
GEO:21.1948041;72.8581943
X-APPLE-STRUCTURED-LOCATION;VALUE=URI;X-ADDRESS=D R World Aai Mata Rd opp. Dhiraj Sons Amidhara Society Bhagyoday Industrial Estate Varachha surat Gujarat 395010 India;X-APPLE-RADIUS=500;X-TITLE=opp. Dhiraj Sons\, Amidhara Society\, Bhagyoday Industrial Estate\, Varachha:geo:72.8581943,21.1948041
END:VEVENT
BEGIN:VEVENT
DTSTART;TZID=Europe/London:20231013T190000
DTEND;TZID=Europe/London:20231013T190000
DTSTAMP:20260422T033703
CREATED:20231006T034522Z
LAST-MODIFIED:20231006T034559Z
UID:10000103-1697223600-1697223600@beta.garbalovers.com
SUMMARY:GARBA WALE - Pre-Navratri Dhamal -With Kishan Rav
DESCRIPTION:MK Events & KDR Events presents an epic Raas Garba event\, bringing one of the top performers from India. \nFirst time in Leicester\, U.K. \nFRIDAY 13TH OCTOBER – BOLLYWOOD DANDIYA NIGHT \nSATURDAY 14TH OCTOBER – RAAS GARBA NIGHT \nUNDER 2 YEARS FREE ENTRY \nDOORS OPEN 7PM \nSHOW STARTS 8PM TILL LATE \nFOOD & DRINKS AVAILBLE TO PURCHASE \nCATERING PARTNER: BOMBAY STREET FOOD LEICESTER \nRADIO PARTNER: SABRAS RADIO \nNO REFUND ON TICKETS \n  \nBuy your tickets here. \n 
URL:https://beta.garbalovers.com/event/garba-wale-pre-navratri-dhamal-with-kishan-rav/
LOCATION:Ramgarhia Community Centre\, Ulverscroft Road Leicester LE4 6BY\, United Kingdom
ATTACH;FMTTYPE=image/jpeg:https://beta.garbalovers.com/wp-content/uploads/2023/10/https___cdn.evbuc_.com_images_609356409_259880254166_1_original.jpeg
GEO:52.645236;-1.1132807
X-APPLE-STRUCTURED-LOCATION;VALUE=URI;X-ADDRESS=Ramgarhia Community Centre Ulverscroft Road Leicester LE4 6BY United Kingdom;X-APPLE-RADIUS=500;X-TITLE=Ulverscroft Road Leicester LE4 6BY:geo:-1.1132807,52.645236
END:VEVENT
BEGIN:VEVENT
DTSTART;TZID=America/New_York:20231013T190000
DTEND;TZID=America/New_York:20231013T190000
DTSTAMP:20260422T033703
CREATED:20231007T055236Z
LAST-MODIFIED:20231007T055236Z
UID:10000112-1697223600-1697223600@beta.garbalovers.com
SUMMARY:Ratri Before Navratri - Toronto | 13th Oct\, 2023 & 14th Oct\, 2023
DESCRIPTION:Shree Ram Entertainment Inc. proudly Presents ” Ratri Before Navaratri ” with the Garba King of North America ” Pramesh Nandi ” on 13th and 14th October 2023. \nEvent Timing: \n13th Oct 2023 : 7:00 PM to 11:45 PM \n14th Oct 2023 : 7:00 PM to 11:45 PM \n** Door Opens at 7 PM ** \n** FREE ENTRY FOR KIDS AGE UNDER 5 ** \n** GROUP DISCOUNT AVAILABLE HERE ** \nFOR LARGER GROUPS\, PLEASE CONTACT ON PROVIDED NUMBERS. \nRajan Gujarati – 647 581 9773 \nBhargav Patel – 289 314 1878 \n  \nBuy your tickets here. \n 
URL:https://beta.garbalovers.com/event/ratri-before-navratri-toronto-13th-oct-2023-14th-oct-2023/
LOCATION:Markham Convention Centre\, 2901 Markham Rd\, toronto\, Canada
ATTACH;FMTTYPE=image/webp:https://beta.garbalovers.com/wp-content/uploads/2023/10/thumb65189876d3d68.webp
GEO:43.8248774;-79.247701
X-APPLE-STRUCTURED-LOCATION;VALUE=URI;X-ADDRESS=Markham Convention Centre 2901 Markham Rd toronto Canada;X-APPLE-RADIUS=500;X-TITLE=2901 Markham Rd:geo:-79.247701,43.8248774
END:VEVENT
BEGIN:VEVENT
DTSTART;TZID=UTC:20231013T193000
DTEND;TZID=UTC:20231013T193000
DTSTAMP:20260422T033703
CREATED:20230923T141527Z
LAST-MODIFIED:20231002T190524Z
UID:10000010-1697225400-1697225400@beta.garbalovers.com
SUMMARY:Garba and Dandiya Night 2023
DESCRIPTION:  \n  \nGet ready to immerse yourself in the magic of Garba as we invite you to join us for an incredible night with the sensational Amit Trivedi! His enchanting tunes and electrifying performances will set the stage on fire\, making this Garba night truly unforgettable. Come\, dance to the beats of celebration\, create cherished memories\, and experience the spirit of Navaratri like never before. Join us in celebrating the rhythms of joy with Amit Trivedi! \n  \n  \n \n  \n  \nBuy your tickets here. \n 
URL:https://beta.garbalovers.com/event/garba-and-dandiya-night-2023/
LOCATION:Mar Thoma Church of Dallas\, 11550 Luna Rd\, Dallas\, TX\, 75234\, United States
ATTACH;FMTTYPE=image/jpeg:https://beta.garbalovers.com/wp-content/uploads/2023/10/garba-and-dandiya-night-2023-14th-oct_2023-06-22-07-33-18-676_46.jpg
GEO:32.9003003;-96.9171321
X-APPLE-STRUCTURED-LOCATION;VALUE=URI;X-ADDRESS=Mar Thoma Church of Dallas 11550 Luna Rd Dallas TX 75234 United States;X-APPLE-RADIUS=500;X-TITLE=11550 Luna Rd:geo:-96.9171321,32.9003003
END:VEVENT
BEGIN:VEVENT
DTSTART;TZID=America/Los_Angeles:20231013T193000
DTEND;TZID=America/Los_Angeles:20231013T193000
DTSTAMP:20260422T033703
CREATED:20231002T133010Z
LAST-MODIFIED:20231002T133010Z
UID:10000069-1697225400-1697225400@beta.garbalovers.com
SUMMARY:GCA Raas Graba - Fri\, Oct 13th 2023
DESCRIPTION:These dances are performed to honor the goddess and celebrate the victory of good over evil. If you’re interested in watching or learning how to perform Ras Garba\, you may find instructional videos or local dance events related to Navratri in your area. It’s a joyful and vibrant dance that is an important part of Indian cultural celebrations. \n  \n  \n \n  \nBuy your tickets here. \n 
URL:https://beta.garbalovers.com/event/gca-raas-graba-fri-oct-13th-2023/
LOCATION:Washington High School\, 38442 Blvd\, Fremont\, CA\, 94536\, United States
ATTACH;FMTTYPE=image/jpeg:https://beta.garbalovers.com/wp-content/uploads/2023/10/raas-graba-2023_2023-08-09-04-50-31-152_55.jpg
GEO:37.5641425;-122.004179
X-APPLE-STRUCTURED-LOCATION;VALUE=URI;X-ADDRESS=Washington High School 38442 Blvd Fremont CA 94536 United States;X-APPLE-RADIUS=500;X-TITLE=38442 Blvd:geo:-122.004179,37.5641425
END:VEVENT
BEGIN:VEVENT
DTSTART;TZID=America/New_York:20231013T200000
DTEND;TZID=America/New_York:20231013T200000
DTSTAMP:20260422T033703
CREATED:20231002T140734Z
LAST-MODIFIED:20231002T140734Z
UID:10000071-1697227200-1697227200@beta.garbalovers.com
SUMMARY:Biggest Raas Garba - Fri Oct 13 2023
DESCRIPTION:The title of the “biggest Raas Garba” event may vary from year to year and from place to place\, as it often depends on the scale and attendance of the event. Raas Garba events are popular during the Navratri festival\, particularly in the Indian state of Gujarat\, where they can draw thousands of participants and spectators. \n  \n \n  \nBuy your tickets here. \n 
URL:https://beta.garbalovers.com/event/biggest-raas-garba-fri-oct-13-2023/
LOCATION:Gaithersburg High School\, 101 Education Boulevard\, Gaithersburg\, MD\, 20877\, United States
ATTACH;FMTTYPE=image/jpeg:https://beta.garbalovers.com/wp-content/uploads/2023/10/biggest-raas-garba-fri-oct-13-2023_2023-09-09-10-51-41-825_35.jpg
GEO:39.1351887;-77.1961756
X-APPLE-STRUCTURED-LOCATION;VALUE=URI;X-ADDRESS=Gaithersburg High School 101 Education Boulevard Gaithersburg MD 20877 United States;X-APPLE-RADIUS=500;X-TITLE=101 Education Boulevard:geo:-77.1961756,39.1351887
END:VEVENT
BEGIN:VEVENT
DTSTART;TZID=America/New_York:20231013T200000
DTEND;TZID=America/New_York:20231013T200000
DTSTAMP:20260422T033703
CREATED:20231002T181146Z
LAST-MODIFIED:20231002T181146Z
UID:10000037-1697227200-1697227200@beta.garbalovers.com
SUMMARY:VIBRANT NAVRATRI : REX D'SOUZA OCT 13 & OCT 14
DESCRIPTION:  \n  \nIt seems like you’re referring to an event called “Vibrant Navratri” featuring the artist Rex D’Souza\, scheduled for October 13 and October 14. Navratri is a Hindu festival celebrated over nine nights and is dedicated to the worship of the goddess Durga. During this festival\, people often engage in traditional dances like Garba and Dandiya\, along with music performances. \n  \nBuy your tickets here. \n 
URL:https://beta.garbalovers.com/event/vibrant-navratri-rex-dsouza-oct-13-oct-14-2/
LOCATION:New Jersey Convention and Exposition Center\, 97 Sunfield Avenue\, Edison\, NJ\, 08837\, United States
ATTACH;FMTTYPE=image/jpeg:https://beta.garbalovers.com/wp-content/uploads/2023/10/2023-09-24-02-54-07-283_84.jpg
GEO:40.5000555;-74.3468337
X-APPLE-STRUCTURED-LOCATION;VALUE=URI;X-ADDRESS=New Jersey Convention and Exposition Center 97 Sunfield Avenue Edison NJ 08837 United States;X-APPLE-RADIUS=500;X-TITLE=97 Sunfield Avenue:geo:-74.3468337,40.5000555
END:VEVENT
BEGIN:VEVENT
DTSTART;TZID=America/Chicago:20231013T200000
DTEND;TZID=America/Chicago:20231013T200000
DTSTAMP:20260422T033703
CREATED:20231004T214554Z
LAST-MODIFIED:20231004T214554Z
UID:10000096-1697227200-1697227200@beta.garbalovers.com
SUMMARY:Gujarati Samaj of Houston
DESCRIPTION:Live Garba Music\, Groove to the lively tunes of Garba songs played live by talented musicians and  Feel the excitement as you dance with dandiya sticks\, creating rhythmic patterns with fellow participants. \nDon’t miss this opportunity to be part of a memorable Garba celebration. Come\, play Garba\, and let’s create unforgettable moments together!” \nFeel free to customize this invitation with specific details such as the date\, time\, and venue to suit your event. \n  \nBuy your tickets here. \n 
URL:https://beta.garbalovers.com/event/gujarati-samaj-of-houston/
LOCATION:GSH Event Center\, 9550 W Bellfort St\, houston\, TX\, 77031\, United States
ATTACH;FMTTYPE=image/jpeg:https://beta.garbalovers.com/wp-content/uploads/2023/10/386547430_708134338020834_8479912378209983538_n.jpg
GEO:29.6547485;-95.5485418
X-APPLE-STRUCTURED-LOCATION;VALUE=URI;X-ADDRESS=GSH Event Center 9550 W Bellfort St houston TX 77031 United States;X-APPLE-RADIUS=500;X-TITLE=9550 W Bellfort St:geo:-95.5485418,29.6547485
END:VEVENT
BEGIN:VEVENT
DTSTART;TZID=Europe/London:20231013T200000
DTEND;TZID=Europe/London:20231013T200000
DTSTAMP:20260422T033703
CREATED:20231006T043131Z
LAST-MODIFIED:20231006T043258Z
UID:10000108-1697227200-1697227200@beta.garbalovers.com
SUMMARY:Kirtidan Gadhvi Pre-Navratri for the First time in UK
DESCRIPTION:Join us for an exhilarating PRE-NAVRATRI GARBA event that promises an evening filled with joy\, energy\, and cultural extravaganza. As the beats of traditional music fill the air\, we invite you to immerse yourself in the fervour of Navratri. \nDress Code: Traditional Wear \nNo Food or Drink Allowed from out side. \nAll Tickets are non-refundable \nLast Entry 10pm ( We may allow early entry to avoid rush at doors) \nValid photographic ID is required upon entry to verify your E-Ticket and age. acceptable forms of valid photographic ID are valid passports and driving licences or pass cards. Photocopies are not acceptable. \nAll E-Tickets cannot be re-sold on the secondary market. Anyone found to be re-selling their ticket will get their tickets cancelled without refund and will be refused entry into the festival site. \n  \n \nBuy your tickets here. \n  \n 
URL:https://beta.garbalovers.com/event/kirtidan-gadhvi-pre-navratri-for-the-first-time-in-uk/
LOCATION:Byron Hall at Harrow Leisure Centre\, Christchurch Avenue Harrow HA3 5BD\, United Kingdom
ATTACH;FMTTYPE=image/jpeg:https://beta.garbalovers.com/wp-content/uploads/2023/10/https___cdn.evbuc_.com_images_554555539_1652812562093_1_original.jpeg
GEO:51.5920001;-0.3275089
X-APPLE-STRUCTURED-LOCATION;VALUE=URI;X-ADDRESS=Byron Hall at Harrow Leisure Centre Christchurch Avenue Harrow HA3 5BD United Kingdom;X-APPLE-RADIUS=500;X-TITLE=Christchurch Avenue Harrow HA3 5BD:geo:-0.3275089,51.5920001
END:VEVENT
BEGIN:VEVENT
DTSTART;TZID=America/New_York:20231013T220000
DTEND;TZID=America/New_York:20231013T220000
DTSTAMP:20260422T033703
CREATED:20231002T135846Z
LAST-MODIFIED:20231002T135934Z
UID:10000070-1697234400-1697234400@beta.garbalovers.com
SUMMARY:BOLLYWOOD RATRI BEFORE NAVRATRI FT. DJ KANDARP JOSHI- KOI D.C.
DESCRIPTION:Keep an eye on local event listings\, Indian community forums\, and social media groups dedicated to events in the Washington\, D.C. area. People often share information about upcoming cultural events in these online communities. \n  \n  \n \n  \nBuy your tickets here. \n  \n  \n  \n 
URL:https://beta.garbalovers.com/event/bollywood-ratri-before-navratri-ft-dj-kandarp-joshi-koi-d-c/
LOCATION:KOI NIGHTCLUB\, 1413 K Street Northwest\, Washington\, DC\, 20005
ATTACH;FMTTYPE=image/jpeg:https://beta.garbalovers.com/wp-content/uploads/2023/10/bollywood-disco-dandiya-ft-dj-manan-patel-koi-d-c_2023-09-07-01-02-03-985_51.jpg
GEO:38.9029231;-77.0326869
X-APPLE-STRUCTURED-LOCATION;VALUE=URI;X-ADDRESS=KOI NIGHTCLUB 1413 K Street Northwest Washington DC 20005;X-APPLE-RADIUS=500;X-TITLE=1413 K Street Northwest:geo:-77.0326869,38.9029231
END:VEVENT
END:VCALENDAR