BEGIN:VCALENDAR
VERSION:2.0
PRODID:-//garbalovers.com - ECPv6.2.2.1//NONSGML v1.0//EN
CALSCALE:GREGORIAN
METHOD:PUBLISH
X-WR-CALNAME:garbalovers.com
X-ORIGINAL-URL:https://beta.garbalovers.com
X-WR-CALDESC:Events for garbalovers.com
REFRESH-INTERVAL;VALUE=DURATION:PT1H
X-Robots-Tag:noindex
X-PUBLISHED-TTL:PT1H
BEGIN:VTIMEZONE
TZID:America/Chicago
BEGIN:DAYLIGHT
TZOFFSETFROM:-0600
TZOFFSETTO:-0500
TZNAME:CDT
DTSTART:20230312T080000
END:DAYLIGHT
BEGIN:STANDARD
TZOFFSETFROM:-0500
TZOFFSETTO:-0600
TZNAME:CST
DTSTART:20231105T070000
END:STANDARD
END:VTIMEZONE
BEGIN:VEVENT
DTSTART;TZID=America/Chicago:20231009T180000
DTEND;TZID=America/Chicago:20231009T230000
DTSTAMP:20260422T033328
CREATED:20231001T164546Z
LAST-MODIFIED:20231001T164546Z
UID:10000043-1696874400-1696892400@beta.garbalovers.com
SUMMARY:Killol With Kinjal Dave - Navratri 2023
DESCRIPTION:“Killol With Kinjal Dave – Navratri 2023” sounds like an exciting event featuring Kinjal Dave\, a popular Gujarati singer known for her Garba and folk music performances. \n  \n \nBuy your tickets here. \n 
URL:https://beta.garbalovers.com/event/killol-with-kinjal-dave-navratri-2023/
LOCATION:Landers Center\, 4560 Venture Dr\, Southaven\, MS\, 38671\, United States
ATTACH;FMTTYPE=image/jpeg:https://beta.garbalovers.com/wp-content/uploads/2023/10/killol-with-kinjal-dave-navratri-2023_2023-08-16-10-22-26-964_96.jpg
GEO:34.9270587;-89.9963571
X-APPLE-STRUCTURED-LOCATION;VALUE=URI;X-ADDRESS=Landers Center 4560 Venture Dr Southaven MS 38671 United States;X-APPLE-RADIUS=500;X-TITLE=4560 Venture Dr:geo:-89.9963571,34.9270587
END:VEVENT
END:VCALENDAR