BEGIN:VCALENDAR
VERSION:2.0
PRODID:-//garbalovers.com - ECPv6.2.2.1//NONSGML v1.0//EN
CALSCALE:GREGORIAN
METHOD:PUBLISH
X-WR-CALNAME:garbalovers.com
X-ORIGINAL-URL:https://beta.garbalovers.com
X-WR-CALDESC:Events for garbalovers.com
REFRESH-INTERVAL;VALUE=DURATION:PT1H
X-Robots-Tag:noindex
X-PUBLISHED-TTL:PT1H
BEGIN:VTIMEZONE
TZID:America/New_York
BEGIN:DAYLIGHT
TZOFFSETFROM:-0500
TZOFFSETTO:-0400
TZNAME:EDT
DTSTART:20230312T070000
END:DAYLIGHT
BEGIN:STANDARD
TZOFFSETFROM:-0400
TZOFFSETTO:-0500
TZNAME:EST
DTSTART:20231105T060000
END:STANDARD
TZID:America/Chicago
BEGIN:DAYLIGHT
TZOFFSETFROM:-0600
TZOFFSETTO:-0500
TZNAME:CDT
DTSTART:20230312T080000
END:DAYLIGHT
BEGIN:STANDARD
TZOFFSETFROM:-0500
TZOFFSETTO:-0600
TZNAME:CST
DTSTART:20231105T070000
END:STANDARD
TZID:America/Los_Angeles
BEGIN:DAYLIGHT
TZOFFSETFROM:-0800
TZOFFSETTO:-0700
TZNAME:PDT
DTSTART:20230312T100000
END:DAYLIGHT
BEGIN:STANDARD
TZOFFSETFROM:-0700
TZOFFSETTO:-0800
TZNAME:PST
DTSTART:20231105T090000
END:STANDARD
TZID:Asia/Kolkata
BEGIN:STANDARD
TZOFFSETFROM:+0530
TZOFFSETTO:+0530
TZNAME:IST
DTSTART:20230101T000000
END:STANDARD
END:VTIMEZONE
BEGIN:VEVENT
DTSTART;TZID=America/New_York:20231008T163000
DTEND;TZID=America/New_York:20231008T170000
DTSTAMP:20260422T033207
CREATED:20231002T113525Z
LAST-MODIFIED:20231002T113618Z
UID:10000061-1696782600-1696784400@beta.garbalovers.com
SUMMARY:Aishwarya Majmudar with Rangtaali 2023 Biggest Dandiya Festival\, Presented by A & K Events - Kaushal Thakkar
DESCRIPTION:To get the most current and accurate information about any upcoming Dandiya festivals in 2023 featuring Aishwarya Majmudar or any other artists\, I recommend checking official event websites\, local event listings\, social media platforms\, or contacting event organizers directly as the event details and lineup may change over time. \n  \n  \n \n  \nBuy your tickets here. \n 
URL:https://beta.garbalovers.com/event/aishwarya-majmudar-with-rangtaali-2023-biggest-dandiya-festival-presented-by-a-k-events-kaushal-thakkar/
LOCATION:Newtown Sports Training & Events Center\, 207 Penns Trail\, Newtown\, PA\, 18940\, United States
ATTACH;FMTTYPE=image/jpeg:https://beta.garbalovers.com/wp-content/uploads/2023/10/rangtaali-biggest-dandiya-festival-with-aishwarya-majmudar_2023-07-24-10-44-48-616_37.jpg
GEO:40.2252215;-74.9108588
X-APPLE-STRUCTURED-LOCATION;VALUE=URI;X-ADDRESS=Newtown Sports Training & Events Center 207 Penns Trail Newtown PA 18940 United States;X-APPLE-RADIUS=500;X-TITLE=207 Penns Trail:geo:-74.9108588,40.2252215
END:VEVENT
BEGIN:VEVENT
DTSTART;TZID=America/Chicago:20231008T170000
DTEND;TZID=America/Chicago:20231008T210000
DTSTAMP:20260422T033207
CREATED:20231001T165308Z
LAST-MODIFIED:20231001T165308Z
UID:10000044-1696784400-1696798800@beta.garbalovers.com
SUMMARY:JASHN STL BOLLYWOOD DANDIYA
DESCRIPTION:It seems like you might be referring to an event or celebration related to Bollywood music and Dandiya dance in the St. Louis (STL) area. Dandiya is a traditional Indian folk dance that is often performed during Navratri\, a Hindu festival. \n  \n  \n \nBuy your tickets here. \n 
URL:https://beta.garbalovers.com/event/jashn-stl-bollywood-dandiya/
LOCATION:Epic Empowerment\, 17795 Wild Horse Creek Road\, Chesterfield\, MO\, 63005\, United States
ATTACH;FMTTYPE=image/jpeg:https://beta.garbalovers.com/wp-content/uploads/2023/10/jashn-bollywood-dandiya_2023-09-02-03-36-00-602_48.jpg
GEO:38.6532435;-90.6407403
X-APPLE-STRUCTURED-LOCATION;VALUE=URI;X-ADDRESS=Epic Empowerment 17795 Wild Horse Creek Road Chesterfield MO 63005 United States;X-APPLE-RADIUS=500;X-TITLE=17795 Wild Horse Creek Road:geo:-90.6407403,38.6532435
END:VEVENT
BEGIN:VEVENT
DTSTART;TZID=America/Los_Angeles:20231008T183000
DTEND;TZID=America/Los_Angeles:20231008T183000
DTSTAMP:20260422T033207
CREATED:20231005T162359Z
LAST-MODIFIED:20231005T162901Z
UID:10000056-1696789800-1696789800@beta.garbalovers.com
SUMMARY:K HOVE HOVE WITH KAIRAVI BUCH IN JAIN CENTER OF SOUTHERN CALIFORNIA
DESCRIPTION:Garba is not just a dance; it’s a cultural expression of joy\, devotion\, and community bonding. During Navratri\, Garba nights are held in various communities worldwide\, allowing people to come together\, celebrate\, and enjoy this vibrant dance form. \n  \n\nhttps://beta.garbalovers.com/wp-content/uploads/2023/10/WhatsApp-Video-2023-10-05-at-9.32.50-PM.mp4\n \n  \nBuy your tickets here. \n 
URL:https://beta.garbalovers.com/event/k-hove-hove-witk-hove-hove-with-kairavi-buch-in-jain-center-of-southern-californiah-kairavi-buch-in-jain-center-of-southern-california-2/
LOCATION:JAIN CENTER OF SOUTHERN CALIFORNIA\, 8072 Commonwealth Avenue\, Buena Park\, CA\, 90621\, United States
ATTACH;FMTTYPE=image/jpeg:https://beta.garbalovers.com/wp-content/uploads/2023/10/k-hove-hove-with-kairavi-buch-in-jain-center-of-southern-california_2023-09-26-11-42-51-703_93.jpg
GEO:33.8695277;-117.9928987
X-APPLE-STRUCTURED-LOCATION;VALUE=URI;X-ADDRESS=JAIN CENTER OF SOUTHERN CALIFORNIA 8072 Commonwealth Avenue Buena Park CA 90621 United States;X-APPLE-RADIUS=500;X-TITLE=8072 Commonwealth Avenue:geo:-117.9928987,33.8695277
END:VEVENT
BEGIN:VEVENT
DTSTART;TZID=America/New_York:20231008T183000
DTEND;TZID=America/New_York:20231008T183000
DTSTAMP:20260422T033207
CREATED:20231007T054535Z
LAST-MODIFIED:20231007T054535Z
UID:10000111-1696789800-1696789800@beta.garbalovers.com
SUMMARY:Toronto Garba Mahotsav with Nick Pandya - 7 Oct & 8 Oct
DESCRIPTION:QUICK COMMUNICATION IN ASSOCIATION WITH \nSACHIN PATEL KIRAN MISTRY & HUMBER 27 DENTAL \nPRESENTS \nTORONTO GARBA MAHOTSAV with Nick Pandya & Team \nVENUE: \nShringeri Temple Hall \n80 Brydon Dr Etobicoke ON M9W 4N6 \nFor Sponsorship Vendor Stalls & Ticket Inquiries Please Contact: \nNihar Patel \n  \nBuy your tickets here. \n 
URL:https://beta.garbalovers.com/event/toronto-garba-mahotsav-with-nick-pandya-7-oct-8-oct/
LOCATION:Shringeri Temple Hall\,\, 80 Brydon Dr\,\, Etobicoke\, ON M9W 4N6\, Canada
ATTACH;FMTTYPE=image/webp:https://beta.garbalovers.com/wp-content/uploads/2023/10/thumb6514627b4a847.webp
GEO:43.7198427;-79.5740842
X-APPLE-STRUCTURED-LOCATION;VALUE=URI;X-ADDRESS=Shringeri Temple Hall 80 Brydon Dr Etobicoke ON M9W 4N6 Canada;X-APPLE-RADIUS=500;X-TITLE=80 Brydon Dr\,:geo:-79.5740842,43.7198427
END:VEVENT
BEGIN:VEVENT
DTSTART;TZID=America/Chicago:20231008T190000
DTEND;TZID=America/Chicago:20231008T190000
DTSTAMP:20260422T033207
CREATED:20231002T045337Z
LAST-MODIFIED:20231002T045337Z
UID:10000047-1696791600-1696791600@beta.garbalovers.com
SUMMARY:Devang patel 's joyful Garba Birmingham
DESCRIPTION:To attend this event or get more information about it\, I recommend checking the official event website\, local event listings\, or contacting the event organizers. They will have the most up-to-date information on the event date\, venue\, ticket prices\, and any other details you may need to know. Enjoy the Garba celebration in Birmingham! \n  \n \n  \nBuy your tickets here. \n 
URL:https://beta.garbalovers.com/event/devang-patel-s-joyful-garba-birmingham/
LOCATION:irondale civic centre\, Civic Center 3521 Ratliff Road\, Irondale\, AL\, 35210\, United States
ATTACH;FMTTYPE=image/jpeg:https://beta.garbalovers.com/wp-content/uploads/2023/10/devang-patel-s-joyful-garba-birmingham_2023-09-16-11-56-00-525_86.jpg
GEO:33.5349138;-86.6427728
X-APPLE-STRUCTURED-LOCATION;VALUE=URI;X-ADDRESS=irondale civic centre Civic Center 3521 Ratliff Road Irondale AL 35210 United States;X-APPLE-RADIUS=500;X-TITLE=Civic Center 3521 Ratliff Road:geo:-86.6427728,33.5349138
END:VEVENT
BEGIN:VEVENT
DTSTART;TZID=America/Chicago:20231008T193000
DTEND;TZID=America/Chicago:20231008T193000
DTSTAMP:20260422T033207
CREATED:20231002T162918Z
LAST-MODIFIED:20231002T190221Z
UID:10000042-1696793400-1696793400@beta.garbalovers.com
SUMMARY:Falguni Pathak Dandiya Dhoom 2023 Dallas
DESCRIPTION:  \nExperience a night of sheer enchantment as we invite you to enjoy an incredible Garba nite with the legendary Falguni Pathak\, who has graced us all the way from India! Prepare to be swept away by the mesmerizing melodies\, infectious energy\, and the vibrant atmosphere of Navaratri. This is your chance to dance\, celebrate\, and create lasting memories with Falguni Pathak\, an icon of Garba music. Don’t miss out on this extraordinary evening filled with music\, dance\, and the spirit of India! \n  \n  \n \n  \nBuy your tickets here. \n  \n \n 
URL:https://beta.garbalovers.com/event/falguni-pathak-dandiya-dhoom-2023-dallas-2/
LOCATION:Frisco Flyers Event Center\, 6300 flyer way\, frisco\, TX\, 75034\, United States
ATTACH;FMTTYPE=image/jpeg:https://beta.garbalovers.com/wp-content/uploads/2023/10/falguni-pathak-dandiya-dhoom-2023_2023-07-31-05-16-37-084_86.jpg
GEO:33.1654479;-96.8312477
X-APPLE-STRUCTURED-LOCATION;VALUE=URI;X-ADDRESS=Frisco Flyers Event Center 6300 flyer way frisco TX 75034 United States;X-APPLE-RADIUS=500;X-TITLE=6300 flyer way:geo:-96.8312477,33.1654479
END:VEVENT
BEGIN:VEVENT
DTSTART;TZID=America/New_York:20231008T200000
DTEND;TZID=America/New_York:20231008T200000
DTSTAMP:20260422T033207
CREATED:20231002T043554Z
LAST-MODIFIED:20231002T043659Z
UID:10000045-1696795200-1696795200@beta.garbalovers.com
SUMMARY:Kinjal Dave Garba Live in Atlanta 2023
DESCRIPTION:To enjoy Kinjal Dave’s live Garba performance in Atlanta in 2023\, you should keep an eye out for announcements from event organizers\, ticket sales\, and promotional materials. You can check popular event websites\, social media platforms\, or contact local Gujarati cultural associations in the Atlanta area for updates and ticket information closer to the event date. \n  \n \n  \nBuy your tickets here. \n 
URL:https://beta.garbalovers.com/event/kinjal-dave-garba-live-in-atlanta-2023/
LOCATION:Ambaji USA- Shree Shakti Mandir\, 1450 Huie Road\, Lake City\, GA\, 30260\, United States
ATTACH;FMTTYPE=image/jpeg:https://beta.garbalovers.com/wp-content/uploads/2023/10/kinjal-dave-garba-live-in-atlanta-2023_2023-08-16-01-57-06-140_21.jpg
GEO:33.6009601;-84.3432421
X-APPLE-STRUCTURED-LOCATION;VALUE=URI;X-ADDRESS=Ambaji USA- Shree Shakti Mandir 1450 Huie Road Lake City GA 30260 United States;X-APPLE-RADIUS=500;X-TITLE=1450 Huie Road:geo:-84.3432421,33.6009601
END:VEVENT
BEGIN:VEVENT
DTSTART;TZID=Asia/Kolkata:20231008T210000
DTEND;TZID=Asia/Kolkata:20231008T210000
DTSTAMP:20260422T033207
CREATED:20231003T154340Z
LAST-MODIFIED:20231003T154419Z
UID:10000082-1696798800-1696798800@beta.garbalovers.com
SUMMARY:MisB Garba Night
DESCRIPTION:Kem cho\, Amdavad? Get ready to groove & twirl your way through the most anticipated event of the year! It’s time to mark your calendars for the Garba Night hosted by your very own Misbehaving Beautifully the Studio! \nHere’s the lowdown on what promises to be the most mischievously delightful night of Amdavad city! \n? When: \n• Phase 1 Tickets (Sept 29-30): Rs 350 – Because early birds deserve a discount! \n• Phase 2 Tickets (Oct 1-4): Rs 450 – Still a steal for this much fun! \n• Phase 3 Tickets (Oct 5-8): Rs 550 – Last chance to join the party! \nBut wait\, there’s more! On October 8\, the studio is pulling out all the stops with a Garba Choreo Class. Don’t miss this chance to learn some killer moves from our fabulous duo\, Nishita & Sehej! \nFor the main event\, we’ve set the stage on the MisB Terrace\, which will feature non-stop music\, delightful performances and pop-up jewelry & desserts stalls \nBut here’s the twist – you’ll get to enjoy both fusion garba for the modern soul and traditional garba for the purist in you. It’s a fusion of traditions and trends\, and we can’t wait to see you embrace it all! \nWant to attend the choreo class and the main event? Contact the MisB team to get an all-event pass \nContact:- +917984356178 \n  \nbuy your tickets here. \n 
URL:https://beta.garbalovers.com/event/misb-garba-night/
LOCATION:Misbehaving Beautifully – The Studio\, 4th Floor\,\, Shri Vardhaman Complex\, Chimanlal Girdharlal Rd\, opp. Ford Showroom\, Ellisbridge\, Ahmedabad\,\, Gujarat\, 380009\, India
ATTACH;FMTTYPE=image/webp:https://beta.garbalovers.com/wp-content/uploads/2023/10/thumb65155f91e9391.webp
GEO:23.0300935;72.5584006
X-APPLE-STRUCTURED-LOCATION;VALUE=URI;X-ADDRESS=Misbehaving Beautifully – The Studio 4th Floor Shri Vardhaman Complex Chimanlal Girdharlal Rd opp. Ford Showroom Ellisbridge Ahmedabad Gujarat 380009 India;X-APPLE-RADIUS=500;X-TITLE=Shri Vardhaman Complex\, Chimanlal Girdharlal Rd\, opp. Ford Showroom\, Ellisbridge:geo:72.5584006,23.0300935
END:VEVENT
END:VCALENDAR