BEGIN:VCALENDAR
VERSION:2.0
PRODID:-//garbalovers.com - ECPv6.2.2.1//NONSGML v1.0//EN
CALSCALE:GREGORIAN
METHOD:PUBLISH
X-WR-CALNAME:garbalovers.com
X-ORIGINAL-URL:https://beta.garbalovers.com
X-WR-CALDESC:Events for garbalovers.com
REFRESH-INTERVAL;VALUE=DURATION:PT1H
X-Robots-Tag:noindex
X-PUBLISHED-TTL:PT1H
BEGIN:VTIMEZONE
TZID:UTC
BEGIN:STANDARD
TZOFFSETFROM:+0000
TZOFFSETTO:+0000
TZNAME:UTC
DTSTART:20230101T000000
END:STANDARD
TZID:America/New_York
BEGIN:DAYLIGHT
TZOFFSETFROM:-0500
TZOFFSETTO:-0400
TZNAME:EDT
DTSTART:20230312T070000
END:DAYLIGHT
BEGIN:STANDARD
TZOFFSETFROM:-0400
TZOFFSETTO:-0500
TZNAME:EST
DTSTART:20231105T060000
END:STANDARD
TZID:America/Chicago
BEGIN:DAYLIGHT
TZOFFSETFROM:-0600
TZOFFSETTO:-0500
TZNAME:CDT
DTSTART:20230312T080000
END:DAYLIGHT
BEGIN:STANDARD
TZOFFSETFROM:-0500
TZOFFSETTO:-0600
TZNAME:CST
DTSTART:20231105T070000
END:STANDARD
TZID:America/Los_Angeles
BEGIN:DAYLIGHT
TZOFFSETFROM:-0800
TZOFFSETTO:-0700
TZNAME:PDT
DTSTART:20230312T100000
END:DAYLIGHT
BEGIN:STANDARD
TZOFFSETFROM:-0700
TZOFFSETTO:-0800
TZNAME:PST
DTSTART:20231105T090000
END:STANDARD
TZID:Asia/Kolkata
BEGIN:STANDARD
TZOFFSETFROM:+0530
TZOFFSETTO:+0530
TZNAME:IST
DTSTART:20230101T000000
END:STANDARD
TZID:America/Denver
BEGIN:DAYLIGHT
TZOFFSETFROM:-0700
TZOFFSETTO:-0600
TZNAME:MDT
DTSTART:20230312T090000
END:DAYLIGHT
BEGIN:STANDARD
TZOFFSETFROM:-0600
TZOFFSETTO:-0700
TZNAME:MST
DTSTART:20231105T080000
END:STANDARD
END:VTIMEZONE
BEGIN:VEVENT
DTSTART;TZID=UTC:20231006T080000
DTEND;TZID=UTC:20231007T170000
DTSTAMP:20260422T032225
CREATED:20230929T210910Z
LAST-MODIFIED:20230929T211210Z
UID:10000030-1696579200-1696698000@beta.garbalovers.com
SUMMARY:JIGARDAN GADHVI - OCT 6 & BHOOMI TRIVEDI - OCT 7 - VIBRANT NAVRATRI
DESCRIPTION:Vibrant Navratri Garba Mahotsav with BHOOMI TRIVEDI at New Jersey Convention & Exposition Center
URL:https://beta.garbalovers.com/event/jigardan-gadhvi-oct-6-bhoomi-trivedi-oct-7-vibrant-navratri/
LOCATION:New Jersey Convention and Exposition Center\, 97 Sunfield Avenue\, Edison\, NJ\, 08837\, United States
ATTACH;FMTTYPE=image/jpeg:https://beta.garbalovers.com/wp-content/uploads/2023/09/https___cdn.evbuc_.com_images_597582849_1439933468_1_original.jpeg
GEO:40.5000555;-74.3468337
X-APPLE-STRUCTURED-LOCATION;VALUE=URI;X-ADDRESS=New Jersey Convention and Exposition Center 97 Sunfield Avenue Edison NJ 08837 United States;X-APPLE-RADIUS=500;X-TITLE=97 Sunfield Avenue:geo:-74.3468337,40.5000555
END:VEVENT
BEGIN:VEVENT
DTSTART;TZID=America/New_York:20231007T180000
DTEND;TZID=America/New_York:20231007T180000
DTSTAMP:20260422T032225
CREATED:20231002T071237Z
LAST-MODIFIED:20231002T071237Z
UID:10000053-1696701600-1696701600@beta.garbalovers.com
SUMMARY:BOLLYWOOD DISCO DANDIYA WITH DJ MANAN PATEL (CINCINNATI)
DESCRIPTION:For specific details about the “Bollywood Disco Dandiya with DJ Manan Patel” event in Cincinnati\, including the date\, venue\, ticketing information\, and any additional details\, you should refer to the official event announcement or contact the event organizers directly. It sounds like a fun and vibrant celebration of music and dance! \n  \n  \n \n  \nBuy your tickets here. \n 
URL:https://beta.garbalovers.com/event/bollywood-disco-dandiya-with-dj-manan-patel-cincinnati/
LOCATION:Knox Joseph Distillery at the OTR StillHouse\, 2017 Branch St\, Cincinnati\, OH\, 45214\, United States
ATTACH;FMTTYPE=image/jpeg:https://beta.garbalovers.com/wp-content/uploads/2023/10/bollywood-disco-dandiya-with-dj-manan-patel-cincinnati_2023-09-15-02-05-13-601_77.jpg
GEO:39.117735;-84.5223443
X-APPLE-STRUCTURED-LOCATION;VALUE=URI;X-ADDRESS=Knox Joseph Distillery at the OTR StillHouse 2017 Branch St Cincinnati OH 45214 United States;X-APPLE-RADIUS=500;X-TITLE=2017 Branch St:geo:-84.5223443,39.117735
END:VEVENT
BEGIN:VEVENT
DTSTART;TZID=America/New_York:20231007T180000
DTEND;TZID=America/New_York:20231007T233000
DTSTAMP:20260422T032225
CREATED:20231007T053628Z
LAST-MODIFIED:20231007T053727Z
UID:10000110-1696701600-1696721400@beta.garbalovers.com
SUMMARY:Ishani Dave - Brampton Navratri Festival 2023
DESCRIPTION:Come join us for a night of music\, dance\, and celebration at the Brampton Navratri Festival 2023! \nIshani Dave\, a renowned and sensational musician\, will be performing live garba and bringing the energy to the dance floor. This in-person event will take place on Saturday\, Oct 07 2023 at 5:00 PM (Eastern Daylight Time) at one of the largest venues in GTA – INTERNATIONAL CENTRE HALL #5\, 6900 Airport Road\, Mississauga\, ON L4V 1E8. \nGet ready to experience the vibrant culture of Navratri with friends and family. Wear your best traditional attire and bring your dancing shoes! This event is open to all ages and we can’t wait to see you there with Dandiya Queen Ishani Dave. \n\nEvent Date – 7th October (Thanksgiving Long Weekend)\nGate Opens at: 5:00 PM (We request you to come early to avoid end moment lineup)\nEvent Starts at: 7:00 PM\nFREE PARKING AVAILABLE\n\nOffline Tickets will be available from August 25th (Locations will be released Soon) \nImportant details: \n\nThe price of the tickets may increase or decrease based on the availability of space and demand. No one is entitled to refund the difference in such a scenario.\nStrictly No refund in any Scenarios\nNo Re-sale is allowed\nNo Re-entry allowed\n\nFor group tickets discount\, sponsorship and more information please contact FRIENDS OF GUJARAT in Canada at: \nAKHIL SHAH : (647) 203-4411 \nDHRUVIN SAVAJ: +1 (514) 298-1011 \nKARAN PATEL: 438-923-9761 \nFOLLOW US on Instagram @friendsofgujarat \n  \n \n  \nBuy your tickets here. \n 
URL:https://beta.garbalovers.com/event/ishani-dave-brampton-navratri-festival-2023/
LOCATION:International Centre Hall# 5\, 6900 Airport Rd\,\, Mississauga\, Canada
ATTACH;FMTTYPE=image/webp:https://beta.garbalovers.com/wp-content/uploads/2023/10/thumb649f71c686557.webp
GEO:43.703868;-79.6383483
X-APPLE-STRUCTURED-LOCATION;VALUE=URI;X-ADDRESS=International Centre Hall# 5 6900 Airport Rd Mississauga Canada;X-APPLE-RADIUS=500;X-TITLE=6900 Airport Rd\,:geo:-79.6383483,43.703868
END:VEVENT
BEGIN:VEVENT
DTSTART;TZID=America/New_York:20231007T183000
DTEND;TZID=America/New_York:20231007T183000
DTSTAMP:20260422T032225
CREATED:20231001T113443Z
LAST-MODIFIED:20231001T113602Z
UID:10000036-1696703400-1696703400@beta.garbalovers.com
SUMMARY:GARBA 2023
DESCRIPTION:If you’re looking to participate in GARBA 2023\, you can check for local Navratri events and celebrations in your area as the date approaches. These events often include music\, dance\, traditional clothing\, and delicious food\, creating a festive and cultural atmosphere. It’s a great way to experience Indian culture and celebrate a traditional festival. \n  \n \n  \nBuy your tickets here. \n 
URL:https://beta.garbalovers.com/event/garba-2023/
LOCATION:Holly Heights Elementary School\, 2509 E Main St\, Millville\, NJ\, 08332\, United States
ATTACH;FMTTYPE=image/jpeg:https://beta.garbalovers.com/wp-content/uploads/2023/10/garba-2023_2023-09-19-08-42-55-037_42.jpg
GEO:39.3850051;-74.9956674
X-APPLE-STRUCTURED-LOCATION;VALUE=URI;X-ADDRESS=Holly Heights Elementary School 2509 E Main St Millville NJ 08332 United States;X-APPLE-RADIUS=500;X-TITLE=2509 E Main St:geo:-74.9956674,39.3850051
END:VEVENT
BEGIN:VEVENT
DTSTART;TZID=America/Chicago:20231007T183000
DTEND;TZID=America/Chicago:20231007T183000
DTSTAMP:20260422T032225
CREATED:20231002T070420Z
LAST-MODIFIED:20231002T070420Z
UID:10000052-1696703400-1696703400@beta.garbalovers.com
SUMMARY:Navratri Utsav Garba & Dandiya Night Celebrations - Free Entry for All
DESCRIPTION:Navratri Utsav events are not only about dancing but also about building a sense of community and socializing. It’s an opportunity for people to come together\, meet friends and family\, and celebrate in a joyous and festive atmosphere. \n  \n  \n \n  \nBuy your tickets here. \n 
URL:https://beta.garbalovers.com/event/navratri-utsav-garba-dandiya-night-celebrations-free-entry-for-all/
LOCATION:Hawthorn Middle School North\, 201 West Hawthorn Parkway\, Vernon Hills\, IL\, 60061\, United States
ATTACH;FMTTYPE=image/jpeg:https://beta.garbalovers.com/wp-content/uploads/2023/10/navratri-utsav-garba-dandiya-night-celebrations_2023-08-08-02-03-54-629_46.jpg
GEO:42.242244;-87.9709973
X-APPLE-STRUCTURED-LOCATION;VALUE=URI;X-ADDRESS=Hawthorn Middle School North 201 West Hawthorn Parkway Vernon Hills IL 60061 United States;X-APPLE-RADIUS=500;X-TITLE=201 West Hawthorn Parkway:geo:-87.9709973,42.242244
END:VEVENT
BEGIN:VEVENT
DTSTART;TZID=America/New_York:20231007T183000
DTEND;TZID=America/New_York:20231007T183000
DTSTAMP:20260422T032225
CREATED:20231002T141501Z
LAST-MODIFIED:20231002T141501Z
UID:10000072-1696703400-1696703400@beta.garbalovers.com
SUMMARY:Glowrathri - A Garba and Dandiya NIght
DESCRIPTION:In such events\, participants often wear colorful and traditional attire and dance to the rhythm of traditional music\, using illuminated sticks in some cases to add a vibrant and visually appealing element to the dance. \n  \n  \n \n  \nBuy your tickets here. \n 
URL:https://beta.garbalovers.com/event/glowrathri-a-garba-and-dandiya-night/
LOCATION:Dulles SportsPlex\, 21610 Atlantic Boulevard\, Sterling\, VA\, 20166\, United States
ATTACH;FMTTYPE=image/jpeg:https://beta.garbalovers.com/wp-content/uploads/2023/10/glowrathri-a-garba-and-dandiya-night_2023-09-02-12-50-08-973_86.jpg
GEO:39.0166055;-77.4256553
X-APPLE-STRUCTURED-LOCATION;VALUE=URI;X-ADDRESS=Dulles SportsPlex 21610 Atlantic Boulevard Sterling VA 20166 United States;X-APPLE-RADIUS=500;X-TITLE=21610 Atlantic Boulevard:geo:-77.4256553,39.0166055
END:VEVENT
BEGIN:VEVENT
DTSTART;TZID=America/Los_Angeles:20231007T190000
DTEND;TZID=America/Los_Angeles:20231007T190000
DTSTAMP:20260422T032225
CREATED:20231002T072557Z
LAST-MODIFIED:20231002T072557Z
UID:10000055-1696705200-1696705200@beta.garbalovers.com
SUMMARY:Navratri Garba Night in Los Angeles 2023 | Live Band| Food| Free Parking
DESCRIPTION:“Navratri Garba Night in Los Angeles” refers to a cultural event celebrating Navratri\, a Hindu festival that typically spans nine nights and involves traditional dances like Garba and Dandiya. Such events are common in areas with a significant Indian and South Asian community\, like Los Angeles. \n  \n  \nBuy your tickets here. \n 
URL:https://beta.garbalovers.com/event/navratri-garba-night-in-los-angeles-2023-live-band-food-free-parking/
LOCATION:RRB Studios\, 10749 South Street\, Cerritos\, CA\, 90703\, United States
ATTACH;FMTTYPE=image/jpeg:https://beta.garbalovers.com/wp-content/uploads/2023/10/2023-09-04-03-38-24-085_3.jpg
GEO:33.8594336;-118.1066599
X-APPLE-STRUCTURED-LOCATION;VALUE=URI;X-ADDRESS=RRB Studios 10749 South Street Cerritos CA 90703 United States;X-APPLE-RADIUS=500;X-TITLE=10749 South Street:geo:-118.1066599,33.8594336
END:VEVENT
BEGIN:VEVENT
DTSTART;TZID=America/New_York:20231007T190000
DTEND;TZID=America/New_York:20231007T190000
DTSTAMP:20260422T032225
CREATED:20231002T115951Z
LAST-MODIFIED:20231002T115951Z
UID:10000063-1696705200-1696705200@beta.garbalovers.com
SUMMARY:Navratri Utsav Garba Night with NJ's Famous DJ Jigar
DESCRIPTION:Navratri Utsav Garba Night with NJ’s Famous DJ Jigar sounds like an exciting event for celebrating Navratri\, a popular Hindu festival. DJ Jigar is renowned for his energetic and festive music sets\, making him a great choice for such a celebration. \n  \n  \n \n  \nBuy your tickets here. \n 
URL:https://beta.garbalovers.com/event/navratri-utsav-garba-night-with-njs-famous-dj-jigar/
LOCATION:Hockessin Hindu Temple\, 760 Yorklyn Rd\, Hockessin\, DE\, 19707\, United States
ATTACH;FMTTYPE=image/jpeg:https://beta.garbalovers.com/wp-content/uploads/2023/10/navratri-utsav-garba-night-with-nj-s-famous-dj-jigar_2023-08-17-10-11-41-173_64.jpg
GEO:39.7906991;-75.6881562
X-APPLE-STRUCTURED-LOCATION;VALUE=URI;X-ADDRESS=Hockessin Hindu Temple 760 Yorklyn Rd Hockessin DE 19707 United States;X-APPLE-RADIUS=500;X-TITLE=760 Yorklyn Rd:geo:-75.6881562,39.7906991
END:VEVENT
BEGIN:VEVENT
DTSTART;TZID=America/Los_Angeles:20231007T190000
DTEND;TZID=America/Los_Angeles:20231007T190000
DTSTAMP:20260422T032225
CREATED:20231002T125434Z
LAST-MODIFIED:20231002T125434Z
UID:10000065-1696705200-1696705200@beta.garbalovers.com
SUMMARY:Sunset Disco Dandiya
DESCRIPTION:A “Sunset Disco Dandiya” event would likely feature a combination of traditional and contemporary music\, dance\, and decor to create a festive and enjoyable atmosphere. These events are not only a celebration of dance and music but also a cultural gathering where people come together to enjoy and celebrate their heritage during the Navaratri festival. \n  \n  \n \n  \nBuy your tickets here. \n 
URL:https://beta.garbalovers.com/event/sunset-disco-dandiya/
LOCATION:The Regency Ballroom\, 1300 Van Ness Avenue\, San Francisco\, CA\, 94109\, United States
ATTACH;FMTTYPE=image/jpeg:https://beta.garbalovers.com/wp-content/uploads/2023/10/sunset-disco-dandiya_2023-08-04-12-08-50-865_55.jpg
GEO:37.7879111;-122.4215074
X-APPLE-STRUCTURED-LOCATION;VALUE=URI;X-ADDRESS=The Regency Ballroom 1300 Van Ness Avenue San Francisco CA 94109 United States;X-APPLE-RADIUS=500;X-TITLE=1300 Van Ness Avenue:geo:-122.4215074,37.7879111
END:VEVENT
BEGIN:VEVENT
DTSTART;TZID=America/Los_Angeles:20231007T190000
DTEND;TZID=America/Los_Angeles:20231007T190000
DTSTAMP:20260422T032225
CREATED:20231002T130233Z
LAST-MODIFIED:20231002T130410Z
UID:10000066-1696705200-1696705200@beta.garbalovers.com
SUMMARY:Poorba Mountain House Disco Dandia 2023
DESCRIPTION:As for “Poorba Mountain House Disco Dandia 2023\,” it seems to be an event or gathering related to Garba and Dandiya dance. Dandiya is another traditional Indian dance form performed during Navratri\, where participants use sticks called “dandiyas” as props while dancing in pairs. \n  \n  \n \n  \nBuy your tickets here. \n 
URL:https://beta.garbalovers.com/event/poorba-mountain-house-disco-dandia-2023/
LOCATION:Central Community Park\, Mountain House\, Central Pkwy\, CA\, 95391\, United States
ATTACH;FMTTYPE=image/jpeg:https://beta.garbalovers.com/wp-content/uploads/2023/10/poorba-mountain-house-disco-dandia-2023_2023-07-17-08-13-53-849_72.jpg
GEO:37.7647551;-121.5463444
X-APPLE-STRUCTURED-LOCATION;VALUE=URI;X-ADDRESS=Central Community Park Mountain House Central Pkwy CA 95391 United States;X-APPLE-RADIUS=500;X-TITLE=Mountain House:geo:-121.5463444,37.7647551
END:VEVENT
BEGIN:VEVENT
DTSTART;TZID=Asia/Kolkata:20231007T190000
DTEND;TZID=Asia/Kolkata:20231007T190000
DTSTAMP:20260422T032225
CREATED:20231003T133634Z
LAST-MODIFIED:20231003T133634Z
UID:10000077-1696705200-1696705200@beta.garbalovers.com
SUMMARY:Dandiya by the Bay | Navratri 2023
DESCRIPTION:DANDIYA By The Bay: Mumbai’s Premier Sea-Facing Navratri Rass Garba Event featuring NAITIK NAGDA in South Mumbai. Experience the Best of Navratri\, Dandiya\, and Garba in One Mesmerizing Evening! \nJoin us for “DANDIYA By The Bay\,” the grandest Navratri celebration in Mumbai\, set against the stunning backdrop of the sea. This extraordinary event brings together the vibrant traditions of Navratri\, the exhilarating spirit of Dandiya\, and the enchanting rhythms of Garba\, all in the heart of South Mumbai. \nGet ready to be swept away by the fusion of captivating music and the irresistible charm of Mumbai during Navratri. NAITIK NAGDA will lead the festivities\, ensuring an unforgettable experience for music enthusiasts and Mumbai aficionados alike. \n“DANDIYA By The Bay” promises an evening of joy\, dance\, and cultural immersion like no other. Mark your calendar for a Navratri celebration that brings together the essence of this cherished festival and the magic of Mumbai’s coastal beauty. \nDon’t miss this opportunity to revel in the spirit of Navratri\, Dandiya\, and Garba by the bay. Join us for an unforgettable night of music\, dance\, and cultural fusion that will leave you with memories to cherish. \nBuy your tickets here. \n 
URL:https://beta.garbalovers.com/event/dandiya-by-the-bay-navratri-2023/
LOCATION:Bayview Lawns\, Mumbai Princess Dock\,\, Mumbai Port Trust\, Mazgaon\, Mumbai\, Maharashtra\, 400009\, India
ATTACH;FMTTYPE=image/webp:https://beta.garbalovers.com/wp-content/uploads/2023/10/mihrrkke69u3zyya5124.webp
GEO:18.9582963;72.838941
X-APPLE-STRUCTURED-LOCATION;VALUE=URI;X-ADDRESS=Bayview Lawns Mumbai Princess Dock Mumbai Port Trust Mazgaon Mumbai Maharashtra 400009 India;X-APPLE-RADIUS=500;X-TITLE=Mumbai Port Trust\, Mazgaon:geo:72.838941,18.9582963
END:VEVENT
BEGIN:VEVENT
DTSTART;TZID=UTC:20231007T190000
DTEND;TZID=UTC:20231007T230000
DTSTAMP:20260422T032225
CREATED:20230923T141005Z
LAST-MODIFIED:20231008T023005Z
UID:10000008-1696705200-1696719600@beta.garbalovers.com
SUMMARY:K HOVE HOVE With Kairavi Buch - Dallas
DESCRIPTION:  \n  \nGet ready to sway to the joyous rhythms of Garba with the incredible Kairavi Buch! Join us for an evening of dance\, music\, and celebration as Kairavi’s melodious voice and energetic performance light up the night. This is your opportunity to immerse yourself in the rich traditions of Garba\, where every step becomes a symbol of unity and every beat a celebration of life. Come\, let’s dance together\, create memories\, and experience the magic of Garba with Kairavi Buch! \n  \n  \n  \nBuy your tickets here. \n 
URL:https://beta.garbalovers.com/event/k-hove-hove-with-kairavi-buch-dallas/
LOCATION:Frisco Flyers Event Center\, 6300 flyer way\, frisco\, TX\, 75034\, United States
ATTACH;FMTTYPE=image/jpeg:https://beta.garbalovers.com/wp-content/uploads/2023/09/182a9e77cfd958053a1a63d9a0db51687befde0f617a7ae0e4d3ba53538e258b-rimg-w820-h360-gmir.jpg
GEO:33.1654479;-96.8312477
X-APPLE-STRUCTURED-LOCATION;VALUE=URI;X-ADDRESS=Frisco Flyers Event Center 6300 flyer way frisco TX 75034 United States;X-APPLE-RADIUS=500;X-TITLE=6300 flyer way:geo:-96.8312477,33.1654479
END:VEVENT
BEGIN:VEVENT
DTSTART;TZID=America/New_York:20231007T200000
DTEND;TZID=America/New_York:20231007T200000
DTSTAMP:20260422T032225
CREATED:20231002T044323Z
LAST-MODIFIED:20231002T044323Z
UID:10000046-1696708800-1696708800@beta.garbalovers.com
SUMMARY:Gujarat Garba Mohatsav Atlanta with Rutvi Pandya & Kirtidan Gadhuvi
DESCRIPTION:It sounds like you’re referring to an event called the “Gujarat Garba Mohatsav Atlanta” featuring Rutvi Pandya and Kirtidan Gadhuvi. This appears to be a Garba festival or event in Atlanta with these popular Garba artists. \n  \n  \n \n  \nBuy your tickets here. \n 
URL:https://beta.garbalovers.com/event/gujarat-garba-mohatsav-atlanta-with-rutvi-pandya-kirtidan-gadhuvi/
LOCATION:Ambaji USA- Shree Shakti Mandir\, 1450 Huie Road\, Lake City\, GA\, 30260\, United States
ATTACH;FMTTYPE=image/jpeg:https://beta.garbalovers.com/wp-content/uploads/2023/10/gujarat-garba-mohatsav-atlanta-with-rutvi-pandya_2023-07-12-02-11-35-869_91.jpg
GEO:33.6009601;-84.3432421
X-APPLE-STRUCTURED-LOCATION;VALUE=URI;X-ADDRESS=Ambaji USA- Shree Shakti Mandir 1450 Huie Road Lake City GA 30260 United States;X-APPLE-RADIUS=500;X-TITLE=1450 Huie Road:geo:-84.3432421,33.6009601
END:VEVENT
BEGIN:VEVENT
DTSTART;TZID=America/Chicago:20231007T200000
DTEND;TZID=America/Chicago:20231007T200000
DTSTAMP:20260422T032225
CREATED:20231002T065636Z
LAST-MODIFIED:20231002T065636Z
UID:10000051-1696708800-1696708800@beta.garbalovers.com
SUMMARY:Kinjal Dave Garba Live in Chicago 2023
DESCRIPTION:It sounds like you’re interested in attending a Navratri event featuring Kinjal Dave’s live Garba performance in Chicago in 2023. Kinjal Dave is a popular Garba singer known for her energetic and lively performances during the Navratri season. \n  \n  \n \n  \nBuy your tickets here. \n 
URL:https://beta.garbalovers.com/event/kinjal-dave-garba-live-in-chicago-2023/
LOCATION:Renaissance Schaumburg Convention Centre hotel\, 1551 Thoreau Dr N\, Schaumburg\, IL\, 60173\, United States
ATTACH;FMTTYPE=image/jpeg:https://beta.garbalovers.com/wp-content/uploads/2023/10/kinjal-dave-garba-live-in-chicago-2023_2023-07-05-05-22-22-535_33.jpg
GEO:42.0608456;-88.0408629
X-APPLE-STRUCTURED-LOCATION;VALUE=URI;X-ADDRESS=Renaissance Schaumburg Convention Centre hotel 1551 Thoreau Dr N Schaumburg IL 60173 United States;X-APPLE-RADIUS=500;X-TITLE=1551 Thoreau Dr N:geo:-88.0408629,42.0608456
END:VEVENT
BEGIN:VEVENT
DTSTART;TZID=America/Denver:20231007T220000
DTEND;TZID=America/Denver:20231007T220000
DTSTAMP:20260422T032225
CREATED:20231002T051208Z
LAST-MODIFIED:20231002T051208Z
UID:10000049-1696716000-1696716000@beta.garbalovers.com
SUMMARY:BOLLYWOOD DISCO DANDIYA ft. DJ MANAN PATEL (AZ)
DESCRIPTION:“BOLLYWOOD DISCO DANDIYA ft. DJ MANAN PATEL (AZ)\,” appears to be a fusion of traditional Garba with a touch of Bollywood and disco music\, featuring DJ Manan Patel in Arizona. Such events often blend the traditional Garba dance form with contemporary music styles to create a unique and energetic dance experience. \n  \n  \n \n  \nBuy your tickets here. \n 
URL:https://beta.garbalovers.com/event/bollywood-disco-dandiya-ft-dj-manan-patel-az/
LOCATION:414 PUB\, 706 West Southern Avenue\, Mesa\, AZ\, 85210\, United States
ATTACH;FMTTYPE=image/jpeg:https://beta.garbalovers.com/wp-content/uploads/2023/10/bollywood-disco-dandiya-ft-dj-manan-patel-az_2023-09-12-04-10-13-219_16.jpg
GEO:33.3924324;-112.0824146
X-APPLE-STRUCTURED-LOCATION;VALUE=URI;X-ADDRESS=414 PUB 706 West Southern Avenue Mesa AZ 85210 United States;X-APPLE-RADIUS=500;X-TITLE=706 West Southern Avenue:geo:-112.0824146,33.3924324
END:VEVENT
END:VCALENDAR