BEGIN:VCALENDAR
VERSION:2.0
PRODID:-//garbalovers.com - ECPv6.2.2.1//NONSGML v1.0//EN
CALSCALE:GREGORIAN
METHOD:PUBLISH
X-ORIGINAL-URL:https://beta.garbalovers.com
X-WR-CALDESC:Events for garbalovers.com
REFRESH-INTERVAL;VALUE=DURATION:PT1H
X-Robots-Tag:noindex
X-PUBLISHED-TTL:PT1H
BEGIN:VTIMEZONE
TZID:UTC
BEGIN:STANDARD
TZOFFSETFROM:+0000
TZOFFSETTO:+0000
TZNAME:UTC
DTSTART:20230101T000000
END:STANDARD
TZID:America/New_York
BEGIN:DAYLIGHT
TZOFFSETFROM:-0500
TZOFFSETTO:-0400
TZNAME:EDT
DTSTART:20230312T070000
END:DAYLIGHT
BEGIN:STANDARD
TZOFFSETFROM:-0400
TZOFFSETTO:-0500
TZNAME:EST
DTSTART:20231105T060000
END:STANDARD
TZID:America/Chicago
BEGIN:DAYLIGHT
TZOFFSETFROM:-0600
TZOFFSETTO:-0500
TZNAME:CDT
DTSTART:20230312T080000
END:DAYLIGHT
BEGIN:STANDARD
TZOFFSETFROM:-0500
TZOFFSETTO:-0600
TZNAME:CST
DTSTART:20231105T070000
END:STANDARD
TZID:America/North_Dakota/Center
BEGIN:DAYLIGHT
TZOFFSETFROM:-0600
TZOFFSETTO:-0500
TZNAME:CDT
DTSTART:20230312T080000
END:DAYLIGHT
BEGIN:STANDARD
TZOFFSETFROM:-0500
TZOFFSETTO:-0600
TZNAME:CST
DTSTART:20231105T070000
END:STANDARD
END:VTIMEZONE
BEGIN:VEVENT
DTSTART;TZID=UTC:20231006T080000
DTEND;TZID=UTC:20231007T170000
DTSTAMP:20260422T031822
CREATED:20230929T210910Z
LAST-MODIFIED:20230929T211210Z
UID:10000030-1696579200-1696698000@beta.garbalovers.com
SUMMARY:JIGARDAN GADHVI - OCT 6 & BHOOMI TRIVEDI - OCT 7 - VIBRANT NAVRATRI
DESCRIPTION:Vibrant Navratri Garba Mahotsav with BHOOMI TRIVEDI at New Jersey Convention & Exposition Center
URL:https://beta.garbalovers.com/event/jigardan-gadhvi-oct-6-bhoomi-trivedi-oct-7-vibrant-navratri/
LOCATION:New Jersey Convention and Exposition Center\, 97 Sunfield Avenue\, Edison\, NJ\, 08837\, United States
ATTACH;FMTTYPE=image/jpeg:https://beta.garbalovers.com/wp-content/uploads/2023/09/https___cdn.evbuc_.com_images_597582849_1439933468_1_original.jpeg
GEO:40.5000555;-74.3468337
X-APPLE-STRUCTURED-LOCATION;VALUE=URI;X-ADDRESS=New Jersey Convention and Exposition Center 97 Sunfield Avenue Edison NJ 08837 United States;X-APPLE-RADIUS=500;X-TITLE=97 Sunfield Avenue:geo:-74.3468337,40.5000555
END:VEVENT
BEGIN:VEVENT
DTSTART;TZID=America/New_York:20231006T190000
DTEND;TZID=America/New_York:20231006T190000
DTSTAMP:20260422T031822
CREATED:20231001T111825Z
LAST-MODIFIED:20231001T111943Z
UID:10000035-1696618800-1696618800@beta.garbalovers.com
SUMMARY:VIBRANT NAVRATRI: JIGARDAN GADHAVI - OCT 06 || BHOOMI TRIVEDI - OCT 07
DESCRIPTION:Get ready for an exhilarating Navratri celebration with Jigardan Gadhavi on October 6 and Bhoomi Trivedi on October 7. These talented artists will bring their vibrant performances to the stage\, making your Navratri festivities unforgettable. Don’t miss out on the music\, dancing\, and cultural joy these events promise to bring. Check for venue details and ticket information to ensure you don’t miss this fantastic celebration! \n  \n  \n \n  \nBuy your tickets here. \n 
URL:https://beta.garbalovers.com/event/vibrant-navratri-jigardan-gadhavi-oct-06-bhoomi-trivedi-oct-07/
LOCATION:New Jersey Convention and Exposition Center\, 97 Sunfield Avenue\, Edison\, NJ\, 08837\, United States
ATTACH;FMTTYPE=image/jpeg:https://beta.garbalovers.com/wp-content/uploads/2023/10/1.2.jpg
GEO:40.5000555;-74.3468337
X-APPLE-STRUCTURED-LOCATION;VALUE=URI;X-ADDRESS=New Jersey Convention and Exposition Center 97 Sunfield Avenue Edison NJ 08837 United States;X-APPLE-RADIUS=500;X-TITLE=97 Sunfield Avenue:geo:-74.3468337,40.5000555
END:VEVENT
BEGIN:VEVENT
DTSTART;TZID=America/Chicago:20231006T190000
DTEND;TZID=America/Chicago:20231006T190000
DTSTAMP:20260422T031822
CREATED:20231002T052132Z
LAST-MODIFIED:20231002T052132Z
UID:10000050-1696618800-1696618800@beta.garbalovers.com
SUMMARY:Rangtaali 2023 with Aishwarya Majmudar\, Chicago
DESCRIPTION:“Rangtaali 2023” featuring Aishwarya Majmudar in Chicago sounds like an exciting event. Aishwarya Majmudar is a talented singer known for her performances in various genres\, including Gujarati folk and Bollywood music. \n  \n  \n \n  \nBuy your tickets here. \n 
URL:https://beta.garbalovers.com/event/rangtaali-2023-with-aishwarya-majmudar-chicago/2023-10-06/
LOCATION:Schaumburg Convention Center\, 1551 Thoreau Drive North\, Schaumburg\, IL\, 60173\, United States
ATTACH;FMTTYPE=image/jpeg:https://beta.garbalovers.com/wp-content/uploads/2023/10/rangtaali-2023-with-aishwarya-majmudar-chicago_2023-06-06-01-53-47-701_88.jpg
GEO:42.0608456;-88.0408629
X-APPLE-STRUCTURED-LOCATION;VALUE=URI;X-ADDRESS=Schaumburg Convention Center 1551 Thoreau Drive North Schaumburg IL 60173 United States;X-APPLE-RADIUS=500;X-TITLE=1551 Thoreau Drive North:geo:-88.0408629,42.0608456
END:VEVENT
BEGIN:VEVENT
DTSTART;TZID=America/New_York:20231006T190000
DTEND;TZID=America/New_York:20231006T190000
DTSTAMP:20260422T031822
CREATED:20231002T120612Z
LAST-MODIFIED:20231002T120612Z
UID:10000064-1696618800-1696618800@beta.garbalovers.com
SUMMARY:KINJAL DAVE Garba Night
DESCRIPTION:Kinjal Dave is a popular Gujarati folk singer known for her Garba performances. She gained immense popularity for her energetic and lively renditions of traditional Gujarati folk songs\, especially during the Navratri festival. \n  \n  \n \n  \nBuy your tickets here. \n 
URL:https://beta.garbalovers.com/event/kinjal-dave-garba-night/
LOCATION:Sportika\, 150 Woodward Road\, Manalapan Township\, NJ\, 07726\, United States
ATTACH;FMTTYPE=image/jpeg:https://beta.garbalovers.com/wp-content/uploads/2023/10/kinjal-dave-garba-night_2023-08-21-02-58-19-297_57.jpg
GEO:40.2567216;-74.3666215
X-APPLE-STRUCTURED-LOCATION;VALUE=URI;X-ADDRESS=Sportika 150 Woodward Road Manalapan Township NJ 07726 United States;X-APPLE-RADIUS=500;X-TITLE=150 Woodward Road:geo:-74.3666215,40.2567216
END:VEVENT
BEGIN:VEVENT
DTSTART;TZID=America/Chicago:20231006T190000
DTEND;TZID=America/Chicago:20231006T190000
DTSTAMP:20260422T031822
CREATED:20231004T211514Z
LAST-MODIFIED:20231004T211746Z
UID:10000094-1696618800-1696618800@beta.garbalovers.com
SUMMARY:Raas Garba with Kairavi Buch
DESCRIPTION:“Join us for an enchanting evening of dance and music as we celebrate the vibrant festival of Garba! Get ready to immerse yourself in the rhythmic beats\, colorful attire\, and joyful spirit of this traditional Indian dance. Whether you’re an experienced dancer or new to Garba\, all are welcome to join in the festivities. \n  \nBuy your tickets here. \n 
URL:https://beta.garbalovers.com/event/raas-garba-with-kairavi-buch-read-more-at-http-www-nrisworld-com-us-events-raas-garba-with-kairavi-buch-event-in-texas-stafford-2047-html/
LOCATION:BAPS Shri Swaminarayan Mandir\, 910 Brand Ln\, Stafford\, 77477\, United States
ATTACH;FMTTYPE=image/jpeg:https://beta.garbalovers.com/wp-content/uploads/2023/10/2023-09-20-03-49-33-224_69.jpg
GEO:29.6136686;-95.5800458
X-APPLE-STRUCTURED-LOCATION;VALUE=URI;X-ADDRESS=BAPS Shri Swaminarayan Mandir 910 Brand Ln Stafford 77477 United States;X-APPLE-RADIUS=500;X-TITLE=910 Brand Ln:geo:-95.5800458,29.6136686
END:VEVENT
BEGIN:VEVENT
DTSTART;TZID=UTC:20231006T190000
DTEND;TZID=UTC:20231006T230000
DTSTAMP:20260422T031822
CREATED:20230923T085031Z
LAST-MODIFIED:20231002T185548Z
UID:10000002-1696618800-1696633200@beta.garbalovers.com
SUMMARY:Lohana Association of DFW Garba
DESCRIPTION:Invitation-Only Garba: Join us for an intimate evening of dance and culture\, where every step is a celebration \n\n\n\n\n\n\n\n\n\n\nLADFW – GARBA\n \n\n\nFriday Oct 6th 2023 | 7:00 PM\n\n\nRadha Shyam Dham: 820 W Airport Fwy\, Irving\, TX 75062 \nClick Here to RSVP for this event \nLADFW – MEMBERS: FREE \nGUESTS – $10 PER PERSON \n\nFood for Purchase\n\nKhitchu (papdi no lot)\nPani Puri (gol gappa)\nSamosa (and chutney)\n\n\n\n\n\n\n\nIf you want to sponsor or donate to support LA-DFW\, please make donations via Zelle on LaDFWpay@gmail.com\nAlternatively please contact Mayur Thakkar on (847) 754-0675 or a committee member.\n** All contributions to LA-DFW are Tax Deductible under section 501(c)(3) **\n  \n \n 
URL:https://beta.garbalovers.com/event/lohana-association-of-dfw-garba/
LOCATION:Radha Shyam Dham\, 820 W Airport Fwy\, Irving\, TX\, 75062\, United States
ATTACH;FMTTYPE=image/jpeg:https://beta.garbalovers.com/wp-content/uploads/2023/09/Screenshot-2023-09-30-at-5.54.18-PM.jpg
ORGANIZER;CN="Lohana Association of DFW (LADFW)":MAILTO:lohanadfw@gmail.com
GEO:32.8353744;-96.9551017
X-APPLE-STRUCTURED-LOCATION;VALUE=URI;X-ADDRESS=Radha Shyam Dham 820 W Airport Fwy Irving TX 75062 United States;X-APPLE-RADIUS=500;X-TITLE=820 W Airport Fwy:geo:-96.9551017,32.8353744
END:VEVENT
BEGIN:VEVENT
DTSTART;TZID=America/North_Dakota/Center:20231006T190000
DTEND;TZID=America/North_Dakota/Center:20231006T230000
DTSTAMP:20260422T031822
CREATED:20230923T140211Z
LAST-MODIFIED:20231002T185805Z
UID:10000006-1696618800-1696633200@beta.garbalovers.com
SUMMARY:Sankara eye foundation Bollywood garba dandia
DESCRIPTION:Step into the world of pure joy and vibrant tradition as we invite you to join the Garba fun! It’s an exuberant dance celebration where every twirl\, every beat\, and every smile brings alive the rich cultural heritage of India. With the rhythmic melodies and colorful attire\, we’ll immerse ourselves in the essence of Navaratri. Come\, be a part of this lively and spirited celebration\, where we dance to the heartbeats of India’s traditions! \n  \n \n  \n  \nBuy your tickets here.  \n  \n \n 
URL:https://beta.garbalovers.com/event/sankara-eye-foundation-bollywood-garba-dandia/
LOCATION:Frisco Flyers Event Center\, 6300 flyer way\, frisco\, TX\, 75034\, United States
ATTACH;FMTTYPE=image/jpeg:https://beta.garbalovers.com/wp-content/uploads/2023/09/Screenshot-2023-09-30-at-5.59.42-PM.jpg
GEO:33.1654479;-96.8312477
X-APPLE-STRUCTURED-LOCATION;VALUE=URI;X-ADDRESS=Frisco Flyers Event Center 6300 flyer way frisco TX 75034 United States;X-APPLE-RADIUS=500;X-TITLE=6300 flyer way:geo:-96.8312477,33.1654479
END:VEVENT
BEGIN:VEVENT
DTSTART;TZID=America/New_York:20231006T200000
DTEND;TZID=America/New_York:20231006T200000
DTSTAMP:20260422T031822
CREATED:20231002T050121Z
LAST-MODIFIED:20231002T050121Z
UID:10000048-1696622400-1696622400@beta.garbalovers.com
SUMMARY:Gujarat Garba Mohatsav Atlanta with Falguni Pathak
DESCRIPTION:Attending a Garba event with Falguni Pathak promises to be a delightful experience filled with traditional dance and music. Make sure to stay updated with the latest information to secure your spot at the event. Enjoy the festivities! \n  \n  \n \n  \nBuy your tickets here. \n 
URL:https://beta.garbalovers.com/event/gujarat-garba-mohatsav-atlanta-with-falguni-pathak/
LOCATION:Ambaji USA- Shree Shakti Mandir\, 1450 Huie Road\, Lake City\, GA\, 30260\, United States
ATTACH;FMTTYPE=image/jpeg:https://beta.garbalovers.com/wp-content/uploads/2023/10/gujarat-garba-mohatsav-atlanta-with-falguni-pathak_2023-07-12-02-17-03-693_65.jpg
GEO:33.6009601;-84.3432421
X-APPLE-STRUCTURED-LOCATION;VALUE=URI;X-ADDRESS=Ambaji USA- Shree Shakti Mandir 1450 Huie Road Lake City GA 30260 United States;X-APPLE-RADIUS=500;X-TITLE=1450 Huie Road:geo:-84.3432421,33.6009601
END:VEVENT
BEGIN:VEVENT
DTSTART;TZID=America/New_York:20231006T200000
DTEND;TZID=America/New_York:20231006T200000
DTSTAMP:20260422T031822
CREATED:20231002T112920Z
LAST-MODIFIED:20231002T112920Z
UID:10000060-1696622400-1696622400@beta.garbalovers.com
SUMMARY:Navratri Festival at Philadelphia Expo Center 2023 (Live Garba)
DESCRIPTION:Navratri is a major Hindu festival celebrated in India and by the Hindu diaspora around the world. The word “Navratri” means “nine nights” in Sanskrit\, and the festival lasts for nine nights and ten days. It typically falls in the Hindu calendar month of Ashwin\, which usually corresponds to September or October in the Gregorian calendar. \n  \n  \n \n  \nBuy your tickets here. \n 
URL:https://beta.garbalovers.com/event/navratri-festival-at-philadelphia-expo-center-2023-live-garba/
LOCATION:The Greater Philadelphia Expo Center\, 100 Station Avenue\, Oaks\, PA\, 19456\, United States
ATTACH;FMTTYPE=image/jpeg:https://beta.garbalovers.com/wp-content/uploads/2023/10/largest-navratri-festival-at-philadelphia-expo-center-2023_2023-08-08-07-20-49-433_18.jpg
GEO:40.1237152;-75.4581416
X-APPLE-STRUCTURED-LOCATION;VALUE=URI;X-ADDRESS=The Greater Philadelphia Expo Center 100 Station Avenue Oaks PA 19456 United States;X-APPLE-RADIUS=500;X-TITLE=100 Station Avenue:geo:-75.4581416,40.1237152
END:VEVENT
END:VCALENDAR