BEGIN:VCALENDAR
VERSION:2.0
PRODID:-//garbalovers.com - ECPv6.2.2.1//NONSGML v1.0//EN
CALSCALE:GREGORIAN
METHOD:PUBLISH
X-ORIGINAL-URL:https://beta.garbalovers.com
X-WR-CALDESC:Events for garbalovers.com
REFRESH-INTERVAL;VALUE=DURATION:PT1H
X-Robots-Tag:noindex
X-PUBLISHED-TTL:PT1H
BEGIN:VTIMEZONE
TZID:America/Chicago
BEGIN:DAYLIGHT
TZOFFSETFROM:-0600
TZOFFSETTO:-0500
TZNAME:CDT
DTSTART:20230312T080000
END:DAYLIGHT
BEGIN:STANDARD
TZOFFSETFROM:-0500
TZOFFSETTO:-0600
TZNAME:CST
DTSTART:20231105T070000
END:STANDARD
END:VTIMEZONE
BEGIN:VEVENT
DTSTART;TZID=America/Chicago:20231001T150000
DTEND;TZID=America/Chicago:20231001T180000
DTSTAMP:20260422T032519
CREATED:20230930T175043Z
LAST-MODIFIED:20230930T175043Z
UID:10000034-1696172400-1696183200@beta.garbalovers.com
SUMMARY:Falguni Pathak Dandiya Dhoom - Biggest Navaratri Graba 2023
DESCRIPTION:Experience a afternoon of sheer enchantment as we invite you to enjoy an incredible Garba night with the legendary Falguni Pathak\, who has graced us all the way from India! Prepare to be swept away by the mesmerizing melodies\, infectious energy\, and the vibrant atmosphere of Navaratri. This is your chance to dance\, celebrate\, and create lasting memories with Falguni Pathak\, an icon of Garba music. Don’t miss out on this extraordinary evening filled with music\, dance\, and the spirit of India!
URL:https://beta.garbalovers.com/event/falguni-pathak-dandiya-dhoom-biggest-navaratri-graba-2023/
LOCATION:New Britain Football Stadium\, 230 John Karbonic Way\, New Britain\, CT\, 06051\, United States
ATTACH;FMTTYPE=image/jpeg:https://beta.garbalovers.com/wp-content/uploads/2023/09/WhatsApp-Image-2023-09-30-at-12.43.24_90164436.jpg
GEO:41.6477266;-72.7750095
X-APPLE-STRUCTURED-LOCATION;VALUE=URI;X-ADDRESS=New Britain Football Stadium 230 John Karbonic Way New Britain CT 06051 United States;X-APPLE-RADIUS=500;X-TITLE=230 John Karbonic Way:geo:-72.7750095,41.6477266
END:VEVENT
END:VCALENDAR